BEGIN:VCALENDAR
VERSION:2.0
PRODID:-//Inspiration Metropolitan District - ECPv6.15.20//NONSGML v1.0//EN
CALSCALE:GREGORIAN
METHOD:PUBLISH
X-WR-CALNAME:Inspiration Metropolitan District
X-ORIGINAL-URL:https://inspirationmetro.org
X-WR-CALDESC:Events for Inspiration Metropolitan District
REFRESH-INTERVAL;VALUE=DURATION:PT1H
X-Robots-Tag:noindex
X-PUBLISHED-TTL:PT1H
BEGIN:VTIMEZONE
TZID:America/Denver
BEGIN:DAYLIGHT
TZOFFSETFROM:-0700
TZOFFSETTO:-0600
TZNAME:MDT
DTSTART:20230312T090000
END:DAYLIGHT
BEGIN:STANDARD
TZOFFSETFROM:-0600
TZOFFSETTO:-0700
TZNAME:MST
DTSTART:20231105T080000
END:STANDARD
BEGIN:DAYLIGHT
TZOFFSETFROM:-0700
TZOFFSETTO:-0600
TZNAME:MDT
DTSTART:20240310T090000
END:DAYLIGHT
BEGIN:STANDARD
TZOFFSETFROM:-0600
TZOFFSETTO:-0700
TZNAME:MST
DTSTART:20241103T080000
END:STANDARD
BEGIN:DAYLIGHT
TZOFFSETFROM:-0700
TZOFFSETTO:-0600
TZNAME:MDT
DTSTART:20250309T090000
END:DAYLIGHT
BEGIN:STANDARD
TZOFFSETFROM:-0600
TZOFFSETTO:-0700
TZNAME:MST
DTSTART:20251102T080000
END:STANDARD
END:VTIMEZONE
BEGIN:VEVENT
DTSTART;TZID=America/Denver:20241119T173000
DTEND;TZID=America/Denver:20241119T190000
DTSTAMP:20260425T082045
CREATED:20231211T180543Z
LAST-MODIFIED:20231211T180543Z
UID:7264-1732037400-1732042800@inspirationmetro.org
SUMMARY:Common Area Committee Meeting
DESCRIPTION:Meeting agendas can be found on the Common Area & Landscaping Committee page\, usually a day before the meeting date. \nZoom meeting link:\nhttps://us06web.zoom.us/j/8637322103\nMeeting ID: 863 732 2103\nOr via telephone with dial in +1 669 900 6833
URL:https://inspirationmetro.org/event/cac2024/2024-11-19/
END:VEVENT
BEGIN:VEVENT
DTSTART;TZID=America/Denver:20241015T173000
DTEND;TZID=America/Denver:20241015T190000
DTSTAMP:20260425T082045
CREATED:20231211T180543Z
LAST-MODIFIED:20231211T180543Z
UID:7263-1729013400-1729018800@inspirationmetro.org
SUMMARY:Common Area Committee Meeting
DESCRIPTION:Meeting agendas can be found on the Common Area & Landscaping Committee page\, usually a day before the meeting date. \nZoom meeting link:\nhttps://us06web.zoom.us/j/8637322103\nMeeting ID: 863 732 2103\nOr via telephone with dial in +1 669 900 6833
URL:https://inspirationmetro.org/event/cac2024/2024-10-15/
END:VEVENT
BEGIN:VEVENT
DTSTART;TZID=America/Denver:20240917T173000
DTEND;TZID=America/Denver:20240917T190000
DTSTAMP:20260425T082045
CREATED:20231211T180543Z
LAST-MODIFIED:20231211T180543Z
UID:7262-1726594200-1726599600@inspirationmetro.org
SUMMARY:Common Area Committee Meeting
DESCRIPTION:Meeting agendas can be found on the Common Area & Landscaping Committee page\, usually a day before the meeting date. \nZoom meeting link:\nhttps://us06web.zoom.us/j/8637322103\nMeeting ID: 863 732 2103\nOr via telephone with dial in +1 669 900 6833
URL:https://inspirationmetro.org/event/cac2024/2024-09-17/
END:VEVENT
BEGIN:VEVENT
DTSTART;TZID=America/Denver:20240820T173000
DTEND;TZID=America/Denver:20240820T190000
DTSTAMP:20260425T082045
CREATED:20231211T180543Z
LAST-MODIFIED:20231211T180543Z
UID:7261-1724175000-1724180400@inspirationmetro.org
SUMMARY:Common Area Committee Meeting
DESCRIPTION:Meeting agendas can be found on the Common Area & Landscaping Committee page\, usually a day before the meeting date. \nZoom meeting link:\nhttps://us06web.zoom.us/j/8637322103\nMeeting ID: 863 732 2103\nOr via telephone with dial in +1 669 900 6833
URL:https://inspirationmetro.org/event/cac2024/2024-08-20/
END:VEVENT
BEGIN:VEVENT
DTSTART;TZID=America/Denver:20240618T173000
DTEND;TZID=America/Denver:20240618T190000
DTSTAMP:20260425T082045
CREATED:20231211T180543Z
LAST-MODIFIED:20231211T180543Z
UID:7259-1718731800-1718737200@inspirationmetro.org
SUMMARY:Common Area Committee Meeting
DESCRIPTION:Meeting agendas can be found on the Common Area & Landscaping Committee page\, usually a day before the meeting date. \nZoom meeting link:\nhttps://us06web.zoom.us/j/8637322103\nMeeting ID: 863 732 2103\nOr via telephone with dial in +1 669 900 6833
URL:https://inspirationmetro.org/event/cac2024/2024-06-18/
END:VEVENT
BEGIN:VEVENT
DTSTART;TZID=America/Denver:20240521T173000
DTEND;TZID=America/Denver:20240521T190000
DTSTAMP:20260425T082045
CREATED:20231211T180543Z
LAST-MODIFIED:20231211T180543Z
UID:7258-1716312600-1716318000@inspirationmetro.org
SUMMARY:Common Area Committee Meeting
DESCRIPTION:Meeting agendas can be found on the Common Area & Landscaping Committee page\, usually a day before the meeting date. \nZoom meeting link:\nhttps://us06web.zoom.us/j/8637322103\nMeeting ID: 863 732 2103\nOr via telephone with dial in +1 669 900 6833
URL:https://inspirationmetro.org/event/cac2024/2024-05-21/
END:VEVENT
BEGIN:VEVENT
DTSTART;TZID=America/Denver:20240416T173000
DTEND;TZID=America/Denver:20240416T190000
DTSTAMP:20260425T082045
CREATED:20231211T180543Z
LAST-MODIFIED:20231211T180543Z
UID:7257-1713288600-1713294000@inspirationmetro.org
SUMMARY:Common Area Committee Meeting
DESCRIPTION:Meeting agendas can be found on the Common Area & Landscaping Committee page\, usually a day before the meeting date. \nZoom meeting link:\nhttps://us06web.zoom.us/j/8637322103\nMeeting ID: 863 732 2103\nOr via telephone with dial in +1 669 900 6833
URL:https://inspirationmetro.org/event/cac2024/2024-04-16/
END:VEVENT
BEGIN:VEVENT
DTSTART;TZID=America/Denver:20240319T173000
DTEND;TZID=America/Denver:20240319T190000
DTSTAMP:20260425T082045
CREATED:20231211T180543Z
LAST-MODIFIED:20231211T180543Z
UID:7256-1710869400-1710874800@inspirationmetro.org
SUMMARY:Common Area Committee Meeting
DESCRIPTION:Meeting agendas can be found on the Common Area & Landscaping Committee page\, usually a day before the meeting date. \nZoom meeting link:\nhttps://us06web.zoom.us/j/8637322103\nMeeting ID: 863 732 2103\nOr via telephone with dial in +1 669 900 6833
URL:https://inspirationmetro.org/event/cac2024/2024-03-19/
END:VEVENT
BEGIN:VEVENT
DTSTART;TZID=America/Denver:20240220T173000
DTEND;TZID=America/Denver:20240220T190000
DTSTAMP:20260425T082045
CREATED:20231211T180543Z
LAST-MODIFIED:20231211T180543Z
UID:7255-1708450200-1708455600@inspirationmetro.org
SUMMARY:Common Area Committee Meeting
DESCRIPTION:Meeting agendas can be found on the Common Area & Landscaping Committee page\, usually a day before the meeting date. \nZoom meeting link:\nhttps://us06web.zoom.us/j/8637322103\nMeeting ID: 863 732 2103\nOr via telephone with dial in +1 669 900 6833
URL:https://inspirationmetro.org/event/cac2024/2024-02-20/
END:VEVENT
BEGIN:VEVENT
DTSTART;TZID=America/Denver:20240116T173000
DTEND;TZID=America/Denver:20240116T190000
DTSTAMP:20260425T082045
CREATED:20231211T180543Z
LAST-MODIFIED:20231211T180543Z
UID:7252-1705426200-1705431600@inspirationmetro.org
SUMMARY:Common Area Committee Meeting
DESCRIPTION:Meeting agendas can be found on the Common Area & Landscaping Committee page\, usually a day before the meeting date. \nZoom meeting link:\nhttps://us06web.zoom.us/j/8637322103\nMeeting ID: 863 732 2103\nOr via telephone with dial in +1 669 900 6833
URL:https://inspirationmetro.org/event/cac2024/2024-01-16/
END:VEVENT
END:VCALENDAR