BEGIN:VCALENDAR
VERSION:2.0
PRODID:-//Inspiration Metropolitan District - ECPv6.15.20//NONSGML v1.0//EN
CALSCALE:GREGORIAN
METHOD:PUBLISH
X-ORIGINAL-URL:https://inspirationmetro.org
X-WR-CALDESC:Events for Inspiration Metropolitan District
REFRESH-INTERVAL;VALUE=DURATION:PT1H
X-Robots-Tag:noindex
X-PUBLISHED-TTL:PT1H
BEGIN:VTIMEZONE
TZID:America/Denver
BEGIN:DAYLIGHT
TZOFFSETFROM:-0700
TZOFFSETTO:-0600
TZNAME:MDT
DTSTART:20240310T090000
END:DAYLIGHT
BEGIN:STANDARD
TZOFFSETFROM:-0600
TZOFFSETTO:-0700
TZNAME:MST
DTSTART:20241103T080000
END:STANDARD
BEGIN:DAYLIGHT
TZOFFSETFROM:-0700
TZOFFSETTO:-0600
TZNAME:MDT
DTSTART:20250309T090000
END:DAYLIGHT
BEGIN:STANDARD
TZOFFSETFROM:-0600
TZOFFSETTO:-0700
TZNAME:MST
DTSTART:20251102T080000
END:STANDARD
BEGIN:DAYLIGHT
TZOFFSETFROM:-0700
TZOFFSETTO:-0600
TZNAME:MDT
DTSTART:20260308T090000
END:DAYLIGHT
BEGIN:STANDARD
TZOFFSETFROM:-0600
TZOFFSETTO:-0700
TZNAME:MST
DTSTART:20261101T080000
END:STANDARD
BEGIN:DAYLIGHT
TZOFFSETFROM:-0700
TZOFFSETTO:-0600
TZNAME:MDT
DTSTART:20270314T090000
END:DAYLIGHT
BEGIN:STANDARD
TZOFFSETFROM:-0600
TZOFFSETTO:-0700
TZNAME:MST
DTSTART:20271107T080000
END:STANDARD
END:VTIMEZONE
BEGIN:VEVENT
DTSTART;TZID=America/Denver:20260414T183000
DTEND;TZID=America/Denver:20260414T203000
DTSTAMP:20260424T115805
CREATED:20241218T184755Z
LAST-MODIFIED:20241218T184755Z
UID:16792-1776191400-1776198600@inspirationmetro.org
SUMMARY:District Board Meeting
DESCRIPTION:https://us06web.zoom.us/j/8637322103\nMeeting ID: 863 732 2103\nOne tap mobile +13462487799\,\,8637322103#\nDial in +1 669 900 6833 \nAgendas are posted on the Board Meetings page: https://inspirationmetro.org/meetings/
URL:https://inspirationmetro.org/event/district-board-meeting-5-2025-09-09-2025-12-09/2026-04-14/
END:VEVENT
BEGIN:VEVENT
DTSTART;TZID=America/Denver:20260310T183000
DTEND;TZID=America/Denver:20260310T203000
DTSTAMP:20260424T115805
CREATED:20241218T184755Z
LAST-MODIFIED:20241218T184755Z
UID:16791-1773167400-1773174600@inspirationmetro.org
SUMMARY:District Board Meeting
DESCRIPTION:https://us06web.zoom.us/j/8637322103\nMeeting ID: 863 732 2103\nOne tap mobile +13462487799\,\,8637322103#\nDial in +1 669 900 6833 \nAgendas are posted on the Board Meetings page: https://inspirationmetro.org/meetings/
URL:https://inspirationmetro.org/event/district-board-meeting-5-2025-09-09-2025-12-09/2026-03-10/
END:VEVENT
BEGIN:VEVENT
DTSTART;TZID=America/Denver:20260210T183000
DTEND;TZID=America/Denver:20260210T203000
DTSTAMP:20260424T115805
CREATED:20241218T184755Z
LAST-MODIFIED:20241218T184755Z
UID:16790-1770748200-1770755400@inspirationmetro.org
SUMMARY:District Board Meeting
DESCRIPTION:https://us06web.zoom.us/j/8637322103\nMeeting ID: 863 732 2103\nOne tap mobile +13462487799\,\,8637322103#\nDial in +1 669 900 6833 \nAgendas are posted on the Board Meetings page: https://inspirationmetro.org/meetings/
URL:https://inspirationmetro.org/event/district-board-meeting-5-2025-09-09-2025-12-09/2026-02-10/
END:VEVENT
BEGIN:VEVENT
DTSTART;TZID=America/Denver:20260113T183000
DTEND;TZID=America/Denver:20260113T203000
DTSTAMP:20260424T115805
CREATED:20241218T184755Z
LAST-MODIFIED:20241218T184755Z
UID:16789-1768329000-1768336200@inspirationmetro.org
SUMMARY:District Board Meeting
DESCRIPTION:https://us06web.zoom.us/j/8637322103\nMeeting ID: 863 732 2103\nOne tap mobile +13462487799\,\,8637322103#\nDial in +1 669 900 6833 \nAgendas are posted on the Board Meetings page: https://inspirationmetro.org/meetings/
URL:https://inspirationmetro.org/event/district-board-meeting-5-2025-09-09-2025-12-09/2026-01-13/
END:VEVENT
BEGIN:VEVENT
DTSTART;TZID=America/Denver:20251209T183000
DTEND;TZID=America/Denver:20251209T203000
DTSTAMP:20260424T115805
CREATED:20241218T184755Z
LAST-MODIFIED:20251211T181815Z
UID:15346-1765305000-1765312200@inspirationmetro.org
SUMMARY:District Board Meeting
DESCRIPTION:https://us06web.zoom.us/j/8637322103\nMeeting ID: 863 732 2103\nOne tap mobile +13462487799\,\,8637322103#\nDial in +1 669 900 6833 \nAgendas are posted on the Board Meetings page: https://inspirationmetro.org/meetings/
URL:https://inspirationmetro.org/event/district-board-meeting-5-2025-09-09-2025-12-09/2025-12-09/
END:VEVENT
END:VCALENDAR