BEGIN:VCALENDAR
VERSION:2.0
PRODID:-//Inspiration Metropolitan District - ECPv6.15.20//NONSGML v1.0//EN
CALSCALE:GREGORIAN
METHOD:PUBLISH
X-WR-CALNAME:Inspiration Metropolitan District
X-ORIGINAL-URL:https://inspirationmetro.org
X-WR-CALDESC:Events for Inspiration Metropolitan District
REFRESH-INTERVAL;VALUE=DURATION:PT1H
X-Robots-Tag:noindex
X-PUBLISHED-TTL:PT1H
BEGIN:VTIMEZONE
TZID:America/Denver
BEGIN:DAYLIGHT
TZOFFSETFROM:-0700
TZOFFSETTO:-0600
TZNAME:MDT
DTSTART:20250309T090000
END:DAYLIGHT
BEGIN:STANDARD
TZOFFSETFROM:-0600
TZOFFSETTO:-0700
TZNAME:MST
DTSTART:20251102T080000
END:STANDARD
BEGIN:DAYLIGHT
TZOFFSETFROM:-0700
TZOFFSETTO:-0600
TZNAME:MDT
DTSTART:20260308T090000
END:DAYLIGHT
BEGIN:STANDARD
TZOFFSETFROM:-0600
TZOFFSETTO:-0700
TZNAME:MST
DTSTART:20261101T080000
END:STANDARD
BEGIN:DAYLIGHT
TZOFFSETFROM:-0700
TZOFFSETTO:-0600
TZNAME:MDT
DTSTART:20270314T090000
END:DAYLIGHT
BEGIN:STANDARD
TZOFFSETFROM:-0600
TZOFFSETTO:-0700
TZNAME:MST
DTSTART:20271107T080000
END:STANDARD
END:VTIMEZONE
BEGIN:VEVENT
DTSTART;TZID=America/Denver:20260512T183000
DTEND;TZID=America/Denver:20260512T203000
DTSTAMP:20260424T100525
CREATED:20241218T184755Z
LAST-MODIFIED:20241218T184755Z
UID:16793-1778610600-1778617800@inspirationmetro.org
SUMMARY:District Board Meeting
DESCRIPTION:https://us06web.zoom.us/j/8637322103\nMeeting ID: 863 732 2103\nOne tap mobile +13462487799\,\,8637322103#\nDial in +1 669 900 6833 \nAgendas are posted on the Board Meetings page: https://inspirationmetro.org/meetings/
URL:https://inspirationmetro.org/event/district-board-meeting-5-2025-09-09-2025-12-09/2026-05-12/
END:VEVENT
BEGIN:VEVENT
DTSTART;TZID=America/Denver:20260609T183000
DTEND;TZID=America/Denver:20260609T203000
DTSTAMP:20260424T100525
CREATED:20241218T184755Z
LAST-MODIFIED:20241218T184755Z
UID:16794-1781029800-1781037000@inspirationmetro.org
SUMMARY:District Board Meeting
DESCRIPTION:https://us06web.zoom.us/j/8637322103\nMeeting ID: 863 732 2103\nOne tap mobile +13462487799\,\,8637322103#\nDial in +1 669 900 6833 \nAgendas are posted on the Board Meetings page: https://inspirationmetro.org/meetings/
URL:https://inspirationmetro.org/event/district-board-meeting-5-2025-09-09-2025-12-09/2026-06-09/
END:VEVENT
BEGIN:VEVENT
DTSTART;TZID=America/Denver:20260714T183000
DTEND;TZID=America/Denver:20260714T203000
DTSTAMP:20260424T100525
CREATED:20241218T184755Z
LAST-MODIFIED:20241218T184755Z
UID:16795-1784053800-1784061000@inspirationmetro.org
SUMMARY:District Board Meeting
DESCRIPTION:https://us06web.zoom.us/j/8637322103\nMeeting ID: 863 732 2103\nOne tap mobile +13462487799\,\,8637322103#\nDial in +1 669 900 6833 \nAgendas are posted on the Board Meetings page: https://inspirationmetro.org/meetings/
URL:https://inspirationmetro.org/event/district-board-meeting-5-2025-09-09-2025-12-09/2026-07-14/
END:VEVENT
BEGIN:VEVENT
DTSTART;TZID=America/Denver:20260811T183000
DTEND;TZID=America/Denver:20260811T203000
DTSTAMP:20260424T100525
CREATED:20241218T184755Z
LAST-MODIFIED:20241218T184755Z
UID:16796-1786473000-1786480200@inspirationmetro.org
SUMMARY:District Board Meeting
DESCRIPTION:https://us06web.zoom.us/j/8637322103\nMeeting ID: 863 732 2103\nOne tap mobile +13462487799\,\,8637322103#\nDial in +1 669 900 6833 \nAgendas are posted on the Board Meetings page: https://inspirationmetro.org/meetings/
URL:https://inspirationmetro.org/event/district-board-meeting-5-2025-09-09-2025-12-09/2026-08-11/
END:VEVENT
BEGIN:VEVENT
DTSTART;TZID=America/Denver:20260908T183000
DTEND;TZID=America/Denver:20260908T203000
DTSTAMP:20260424T100525
CREATED:20241218T184755Z
LAST-MODIFIED:20241218T184755Z
UID:16797-1788892200-1788899400@inspirationmetro.org
SUMMARY:District Board Meeting
DESCRIPTION:https://us06web.zoom.us/j/8637322103\nMeeting ID: 863 732 2103\nOne tap mobile +13462487799\,\,8637322103#\nDial in +1 669 900 6833 \nAgendas are posted on the Board Meetings page: https://inspirationmetro.org/meetings/
URL:https://inspirationmetro.org/event/district-board-meeting-5-2025-09-09-2025-12-09/2026-09-08/
END:VEVENT
BEGIN:VEVENT
DTSTART;TZID=America/Denver:20261013T183000
DTEND;TZID=America/Denver:20261013T203000
DTSTAMP:20260424T100525
CREATED:20241218T184755Z
LAST-MODIFIED:20241218T184755Z
UID:16798-1791916200-1791923400@inspirationmetro.org
SUMMARY:District Board Meeting
DESCRIPTION:https://us06web.zoom.us/j/8637322103\nMeeting ID: 863 732 2103\nOne tap mobile +13462487799\,\,8637322103#\nDial in +1 669 900 6833 \nAgendas are posted on the Board Meetings page: https://inspirationmetro.org/meetings/
URL:https://inspirationmetro.org/event/district-board-meeting-5-2025-09-09-2025-12-09/2026-10-13/
END:VEVENT
BEGIN:VEVENT
DTSTART;TZID=America/Denver:20261110T183000
DTEND;TZID=America/Denver:20261110T203000
DTSTAMP:20260424T100525
CREATED:20241218T184755Z
LAST-MODIFIED:20241218T184755Z
UID:16799-1794335400-1794342600@inspirationmetro.org
SUMMARY:District Board Meeting
DESCRIPTION:https://us06web.zoom.us/j/8637322103\nMeeting ID: 863 732 2103\nOne tap mobile +13462487799\,\,8637322103#\nDial in +1 669 900 6833 \nAgendas are posted on the Board Meetings page: https://inspirationmetro.org/meetings/
URL:https://inspirationmetro.org/event/district-board-meeting-5-2025-09-09-2025-12-09/2026-11-10/
END:VEVENT
BEGIN:VEVENT
DTSTART;TZID=America/Denver:20261208T183000
DTEND;TZID=America/Denver:20261208T203000
DTSTAMP:20260424T100525
CREATED:20241218T184755Z
LAST-MODIFIED:20241218T184755Z
UID:16800-1796754600-1796761800@inspirationmetro.org
SUMMARY:District Board Meeting
DESCRIPTION:https://us06web.zoom.us/j/8637322103\nMeeting ID: 863 732 2103\nOne tap mobile +13462487799\,\,8637322103#\nDial in +1 669 900 6833 \nAgendas are posted on the Board Meetings page: https://inspirationmetro.org/meetings/
URL:https://inspirationmetro.org/event/district-board-meeting-5-2025-09-09-2025-12-09/2026-12-08/
END:VEVENT
END:VCALENDAR