BEGIN:VCALENDAR
VERSION:2.0
PRODID:-//Inspiration Metropolitan District - ECPv6.15.20//NONSGML v1.0//EN
CALSCALE:GREGORIAN
METHOD:PUBLISH
X-WR-CALNAME:Inspiration Metropolitan District
X-ORIGINAL-URL:https://inspirationmetro.org
X-WR-CALDESC:Events for Inspiration Metropolitan District
REFRESH-INTERVAL;VALUE=DURATION:PT1H
X-Robots-Tag:noindex
X-PUBLISHED-TTL:PT1H
BEGIN:VTIMEZONE
TZID:America/Denver
BEGIN:DAYLIGHT
TZOFFSETFROM:-0700
TZOFFSETTO:-0600
TZNAME:MDT
DTSTART:20230312T090000
END:DAYLIGHT
BEGIN:STANDARD
TZOFFSETFROM:-0600
TZOFFSETTO:-0700
TZNAME:MST
DTSTART:20231105T080000
END:STANDARD
BEGIN:DAYLIGHT
TZOFFSETFROM:-0700
TZOFFSETTO:-0600
TZNAME:MDT
DTSTART:20240310T090000
END:DAYLIGHT
BEGIN:STANDARD
TZOFFSETFROM:-0600
TZOFFSETTO:-0700
TZNAME:MST
DTSTART:20241103T080000
END:STANDARD
BEGIN:DAYLIGHT
TZOFFSETFROM:-0700
TZOFFSETTO:-0600
TZNAME:MDT
DTSTART:20250309T090000
END:DAYLIGHT
BEGIN:STANDARD
TZOFFSETFROM:-0600
TZOFFSETTO:-0700
TZNAME:MST
DTSTART:20251102T080000
END:STANDARD
END:VTIMEZONE
BEGIN:VEVENT
DTSTART;TZID=America/Denver:20241202T173000
DTEND;TZID=America/Denver:20241202T190000
DTSTAMP:20260425T072457
CREATED:20231211T214954Z
LAST-MODIFIED:20240102T194204Z
UID:7330-1733160600-1733166000@inspirationmetro.org
SUMMARY:Finance Committee Meeting
DESCRIPTION:Meeting agendas can be found on the Finance Committee page\, usually a day before the meeting date. \nZoom meeting link:\nhttps://us06web.zoom.us/j/8637322103\nMeeting ID: 863 732 2103\nOr via telephone with dial in +1 669 900 6833
URL:https://inspirationmetro.org/event/fin/2024-12-02/
END:VEVENT
BEGIN:VEVENT
DTSTART;TZID=America/Denver:20241104T173000
DTEND;TZID=America/Denver:20241104T190000
DTSTAMP:20260425T072457
CREATED:20231211T214954Z
LAST-MODIFIED:20240102T194204Z
UID:7329-1730741400-1730746800@inspirationmetro.org
SUMMARY:Finance Committee Meeting
DESCRIPTION:Meeting agendas can be found on the Finance Committee page\, usually a day before the meeting date. \nZoom meeting link:\nhttps://us06web.zoom.us/j/8637322103\nMeeting ID: 863 732 2103\nOr via telephone with dial in +1 669 900 6833
URL:https://inspirationmetro.org/event/fin/2024-11-04/
END:VEVENT
BEGIN:VEVENT
DTSTART;TZID=America/Denver:20241007T173000
DTEND;TZID=America/Denver:20241007T190000
DTSTAMP:20260425T072457
CREATED:20231211T214954Z
LAST-MODIFIED:20240102T194201Z
UID:7328-1728322200-1728327600@inspirationmetro.org
SUMMARY:Finance Committee Meeting
DESCRIPTION:Meeting agendas can be found on the Finance Committee page\, usually a day before the meeting date. \nZoom meeting link:\nhttps://us06web.zoom.us/j/8637322103\nMeeting ID: 863 732 2103\nOr via telephone with dial in +1 669 900 6833
URL:https://inspirationmetro.org/event/fin/2024-10-07/
END:VEVENT
BEGIN:VEVENT
DTSTART;TZID=America/Denver:20240909T173000
DTEND;TZID=America/Denver:20240909T190000
DTSTAMP:20260425T072457
CREATED:20231211T214954Z
LAST-MODIFIED:20240102T194201Z
UID:7327-1725903000-1725908400@inspirationmetro.org
SUMMARY:Finance Committee Meeting
DESCRIPTION:Meeting agendas can be found on the Finance Committee page\, usually a day before the meeting date. \nZoom meeting link:\nhttps://us06web.zoom.us/j/8637322103\nMeeting ID: 863 732 2103\nOr via telephone with dial in +1 669 900 6833
URL:https://inspirationmetro.org/event/fin/2024-09-09/
END:VEVENT
BEGIN:VEVENT
DTSTART;TZID=America/Denver:20240805T173000
DTEND;TZID=America/Denver:20240805T190000
DTSTAMP:20260425T072457
CREATED:20231211T214954Z
LAST-MODIFIED:20240102T194200Z
UID:7326-1722879000-1722884400@inspirationmetro.org
SUMMARY:Finance Committee Meeting
DESCRIPTION:Meeting agendas can be found on the Finance Committee page\, usually a day before the meeting date. \nZoom meeting link:\nhttps://us06web.zoom.us/j/8637322103\nMeeting ID: 863 732 2103\nOr via telephone with dial in +1 669 900 6833
URL:https://inspirationmetro.org/event/fin/2024-08-05/
END:VEVENT
BEGIN:VEVENT
DTSTART;TZID=America/Denver:20240701T173000
DTEND;TZID=America/Denver:20240701T190000
DTSTAMP:20260425T072457
CREATED:20231211T214954Z
LAST-MODIFIED:20240102T194200Z
UID:7325-1719855000-1719860400@inspirationmetro.org
SUMMARY:Finance Committee Meeting
DESCRIPTION:Meeting agendas can be found on the Finance Committee page\, usually a day before the meeting date. \nZoom meeting link:\nhttps://us06web.zoom.us/j/8637322103\nMeeting ID: 863 732 2103\nOr via telephone with dial in +1 669 900 6833
URL:https://inspirationmetro.org/event/fin/2024-07-01/
END:VEVENT
BEGIN:VEVENT
DTSTART;TZID=America/Denver:20240603T173000
DTEND;TZID=America/Denver:20240603T190000
DTSTAMP:20260425T072457
CREATED:20231211T214954Z
LAST-MODIFIED:20240102T194200Z
UID:7324-1717435800-1717441200@inspirationmetro.org
SUMMARY:Finance Committee Meeting
DESCRIPTION:Meeting agendas can be found on the Finance Committee page\, usually a day before the meeting date. \nZoom meeting link:\nhttps://us06web.zoom.us/j/8637322103\nMeeting ID: 863 732 2103\nOr via telephone with dial in +1 669 900 6833
URL:https://inspirationmetro.org/event/fin/2024-06-03/
END:VEVENT
BEGIN:VEVENT
DTSTART;TZID=America/Denver:20240506T173000
DTEND;TZID=America/Denver:20240506T190000
DTSTAMP:20260425T072457
CREATED:20231211T214954Z
LAST-MODIFIED:20240102T194159Z
UID:7323-1715016600-1715022000@inspirationmetro.org
SUMMARY:Finance Committee Meeting
DESCRIPTION:Meeting agendas can be found on the Finance Committee page\, usually a day before the meeting date. \nZoom meeting link:\nhttps://us06web.zoom.us/j/8637322103\nMeeting ID: 863 732 2103\nOr via telephone with dial in +1 669 900 6833
URL:https://inspirationmetro.org/event/fin/2024-05-06/
END:VEVENT
BEGIN:VEVENT
DTSTART;TZID=America/Denver:20240401T173000
DTEND;TZID=America/Denver:20240401T190000
DTSTAMP:20260425T072457
CREATED:20231211T214954Z
LAST-MODIFIED:20240102T194159Z
UID:7322-1711992600-1711998000@inspirationmetro.org
SUMMARY:Finance Committee Meeting
DESCRIPTION:Meeting agendas can be found on the Finance Committee page\, usually a day before the meeting date. \nZoom meeting link:\nhttps://us06web.zoom.us/j/8637322103\nMeeting ID: 863 732 2103\nOr via telephone with dial in +1 669 900 6833
URL:https://inspirationmetro.org/event/fin/2024-04-01/
END:VEVENT
BEGIN:VEVENT
DTSTART;TZID=America/Denver:20240304T173000
DTEND;TZID=America/Denver:20240304T190000
DTSTAMP:20260425T072457
CREATED:20231211T214954Z
LAST-MODIFIED:20240102T194159Z
UID:7321-1709573400-1709578800@inspirationmetro.org
SUMMARY:Finance Committee Meeting
DESCRIPTION:Meeting agendas can be found on the Finance Committee page\, usually a day before the meeting date. \nZoom meeting link:\nhttps://us06web.zoom.us/j/8637322103\nMeeting ID: 863 732 2103\nOr via telephone with dial in +1 669 900 6833
URL:https://inspirationmetro.org/event/fin/2024-03-04/
END:VEVENT
BEGIN:VEVENT
DTSTART;TZID=America/Denver:20240205T173000
DTEND;TZID=America/Denver:20240205T190000
DTSTAMP:20260425T072457
CREATED:20231211T214954Z
LAST-MODIFIED:20240102T194158Z
UID:7320-1707154200-1707159600@inspirationmetro.org
SUMMARY:Finance Committee Meeting
DESCRIPTION:Meeting agendas can be found on the Finance Committee page\, usually a day before the meeting date. \nZoom meeting link:\nhttps://us06web.zoom.us/j/8637322103\nMeeting ID: 863 732 2103\nOr via telephone with dial in +1 669 900 6833
URL:https://inspirationmetro.org/event/fin/2024-02-05/
END:VEVENT
BEGIN:VEVENT
DTSTART;TZID=America/Denver:20240108T173000
DTEND;TZID=America/Denver:20240108T190000
DTSTAMP:20260425T072457
CREATED:20231211T214954Z
LAST-MODIFIED:20240102T194156Z
UID:7317-1704735000-1704740400@inspirationmetro.org
SUMMARY:Finance Committee Meeting
DESCRIPTION:Meeting agendas can be found on the Finance Committee page\, usually a day before the meeting date. \nZoom meeting link:\nhttps://us06web.zoom.us/j/8637322103\nMeeting ID: 863 732 2103\nOr via telephone with dial in +1 669 900 6833
URL:https://inspirationmetro.org/event/fin/2024-01-08/
END:VEVENT
END:VCALENDAR