BEGIN:VCALENDAR
VERSION:2.0
PRODID:-//Inspiration Metropolitan District - ECPv6.15.20//NONSGML v1.0//EN
CALSCALE:GREGORIAN
METHOD:PUBLISH
X-WR-CALNAME:Inspiration Metropolitan District
X-ORIGINAL-URL:https://inspirationmetro.org
X-WR-CALDESC:Events for Inspiration Metropolitan District
REFRESH-INTERVAL;VALUE=DURATION:PT1H
X-Robots-Tag:noindex
X-PUBLISHED-TTL:PT1H
BEGIN:VTIMEZONE
TZID:America/Denver
BEGIN:DAYLIGHT
TZOFFSETFROM:-0700
TZOFFSETTO:-0600
TZNAME:MDT
DTSTART:20230312T090000
END:DAYLIGHT
BEGIN:STANDARD
TZOFFSETFROM:-0600
TZOFFSETTO:-0700
TZNAME:MST
DTSTART:20231105T080000
END:STANDARD
BEGIN:DAYLIGHT
TZOFFSETFROM:-0700
TZOFFSETTO:-0600
TZNAME:MDT
DTSTART:20240310T090000
END:DAYLIGHT
BEGIN:STANDARD
TZOFFSETFROM:-0600
TZOFFSETTO:-0700
TZNAME:MST
DTSTART:20241103T080000
END:STANDARD
BEGIN:DAYLIGHT
TZOFFSETFROM:-0700
TZOFFSETTO:-0600
TZNAME:MDT
DTSTART:20250309T090000
END:DAYLIGHT
BEGIN:STANDARD
TZOFFSETFROM:-0600
TZOFFSETTO:-0700
TZNAME:MST
DTSTART:20251102T080000
END:STANDARD
END:VTIMEZONE
BEGIN:VEVENT
DTSTART;TZID=America/Denver:20240729T121500
DTEND;TZID=America/Denver:20240729T124500
DTSTAMP:20260425T093127
CREATED:20240521T161241Z
LAST-MODIFIED:20240521T220217Z
UID:11247-1722255300-1722257100@inspirationmetro.org
SUMMARY:Free School Lunches at the Pool\, Mon-Fri
DESCRIPTION:Douglas County School District is bringing their free school lunch program to Inspiration’s pool this summer!\nLunch boxes are free for ages 18 and under. Children must be present and lunches consumed on site. \nFree lunches will be available at the pool area Monday through Friday between 12:15 – 12:45pm.\nDates are from May 28th through August 2nd. Please note there will be no meal service on June 19 or July 4. \nSee the linked flyer for more details on this federally funded program.\nDCSD Nutrition Services Summer Flyer 2024
URL:https://inspirationmetro.org/event/free-school-lunches-2024/2024-07-29/
LOCATION:Inspiration Club Building\, 23396 E Glidden Dr\, Aurora\, CO\, 80016\, United States
END:VEVENT
BEGIN:VEVENT
DTSTART;TZID=America/Denver:20240722T121500
DTEND;TZID=America/Denver:20240722T124500
DTSTAMP:20260425T093127
CREATED:20240521T161241Z
LAST-MODIFIED:20240521T220216Z
UID:11246-1721650500-1721652300@inspirationmetro.org
SUMMARY:Free School Lunches at the Pool\, Mon-Fri
DESCRIPTION:Douglas County School District is bringing their free school lunch program to Inspiration’s pool this summer!\nLunch boxes are free for ages 18 and under. Children must be present and lunches consumed on site. \nFree lunches will be available at the pool area Monday through Friday between 12:15 – 12:45pm.\nDates are from May 28th through August 2nd. Please note there will be no meal service on June 19 or July 4. \nSee the linked flyer for more details on this federally funded program.\nDCSD Nutrition Services Summer Flyer 2024
URL:https://inspirationmetro.org/event/free-school-lunches-2024/2024-07-22/
LOCATION:Inspiration Club Building\, 23396 E Glidden Dr\, Aurora\, CO\, 80016\, United States
END:VEVENT
BEGIN:VEVENT
DTSTART;TZID=America/Denver:20240715T121500
DTEND;TZID=America/Denver:20240715T124500
DTSTAMP:20260425T093127
CREATED:20240521T161241Z
LAST-MODIFIED:20240521T220216Z
UID:11245-1721045700-1721047500@inspirationmetro.org
SUMMARY:Free School Lunches at the Pool\, Mon-Fri
DESCRIPTION:Douglas County School District is bringing their free school lunch program to Inspiration’s pool this summer!\nLunch boxes are free for ages 18 and under. Children must be present and lunches consumed on site. \nFree lunches will be available at the pool area Monday through Friday between 12:15 – 12:45pm.\nDates are from May 28th through August 2nd. Please note there will be no meal service on June 19 or July 4. \nSee the linked flyer for more details on this federally funded program.\nDCSD Nutrition Services Summer Flyer 2024
URL:https://inspirationmetro.org/event/free-school-lunches-2024/2024-07-15/
LOCATION:Inspiration Club Building\, 23396 E Glidden Dr\, Aurora\, CO\, 80016\, United States
END:VEVENT
BEGIN:VEVENT
DTSTART;TZID=America/Denver:20240708T121500
DTEND;TZID=America/Denver:20240708T124500
DTSTAMP:20260425T093127
CREATED:20240521T161241Z
LAST-MODIFIED:20240521T220216Z
UID:11244-1720440900-1720442700@inspirationmetro.org
SUMMARY:Free School Lunches at the Pool\, Mon-Fri
DESCRIPTION:Douglas County School District is bringing their free school lunch program to Inspiration’s pool this summer!\nLunch boxes are free for ages 18 and under. Children must be present and lunches consumed on site. \nFree lunches will be available at the pool area Monday through Friday between 12:15 – 12:45pm.\nDates are from May 28th through August 2nd. Please note there will be no meal service on June 19 or July 4. \nSee the linked flyer for more details on this federally funded program.\nDCSD Nutrition Services Summer Flyer 2024
URL:https://inspirationmetro.org/event/free-school-lunches-2024/2024-07-08/
LOCATION:Inspiration Club Building\, 23396 E Glidden Dr\, Aurora\, CO\, 80016\, United States
END:VEVENT
BEGIN:VEVENT
DTSTART;TZID=America/Denver:20240701T121500
DTEND;TZID=America/Denver:20240701T124500
DTSTAMP:20260425T093127
CREATED:20240521T161241Z
LAST-MODIFIED:20240521T220216Z
UID:11243-1719836100-1719837900@inspirationmetro.org
SUMMARY:Free School Lunches at the Pool\, Mon-Fri
DESCRIPTION:Douglas County School District is bringing their free school lunch program to Inspiration’s pool this summer!\nLunch boxes are free for ages 18 and under. Children must be present and lunches consumed on site. \nFree lunches will be available at the pool area Monday through Friday between 12:15 – 12:45pm.\nDates are from May 28th through August 2nd. Please note there will be no meal service on June 19 or July 4. \nSee the linked flyer for more details on this federally funded program.\nDCSD Nutrition Services Summer Flyer 2024
URL:https://inspirationmetro.org/event/free-school-lunches-2024/2024-07-01/
LOCATION:Inspiration Club Building\, 23396 E Glidden Dr\, Aurora\, CO\, 80016\, United States
END:VEVENT
BEGIN:VEVENT
DTSTART;TZID=America/Denver:20240624T121500
DTEND;TZID=America/Denver:20240624T124500
DTSTAMP:20260425T093127
CREATED:20240521T161241Z
LAST-MODIFIED:20240521T220215Z
UID:11242-1719231300-1719233100@inspirationmetro.org
SUMMARY:Free School Lunches at the Pool\, Mon-Fri
DESCRIPTION:Douglas County School District is bringing their free school lunch program to Inspiration’s pool this summer!\nLunch boxes are free for ages 18 and under. Children must be present and lunches consumed on site. \nFree lunches will be available at the pool area Monday through Friday between 12:15 – 12:45pm.\nDates are from May 28th through August 2nd. Please note there will be no meal service on June 19 or July 4. \nSee the linked flyer for more details on this federally funded program.\nDCSD Nutrition Services Summer Flyer 2024
URL:https://inspirationmetro.org/event/free-school-lunches-2024/2024-06-24/
LOCATION:Inspiration Club Building\, 23396 E Glidden Dr\, Aurora\, CO\, 80016\, United States
END:VEVENT
BEGIN:VEVENT
DTSTART;TZID=America/Denver:20240617T121500
DTEND;TZID=America/Denver:20240617T124500
DTSTAMP:20260425T093127
CREATED:20240521T161241Z
LAST-MODIFIED:20240521T220215Z
UID:11241-1718626500-1718628300@inspirationmetro.org
SUMMARY:Free School Lunches at the Pool\, Mon-Fri
DESCRIPTION:Douglas County School District is bringing their free school lunch program to Inspiration’s pool this summer!\nLunch boxes are free for ages 18 and under. Children must be present and lunches consumed on site. \nFree lunches will be available at the pool area Monday through Friday between 12:15 – 12:45pm.\nDates are from May 28th through August 2nd. Please note there will be no meal service on June 19 or July 4. \nSee the linked flyer for more details on this federally funded program.\nDCSD Nutrition Services Summer Flyer 2024
URL:https://inspirationmetro.org/event/free-school-lunches-2024/2024-06-17/
LOCATION:Inspiration Club Building\, 23396 E Glidden Dr\, Aurora\, CO\, 80016\, United States
END:VEVENT
BEGIN:VEVENT
DTSTART;TZID=America/Denver:20240610T121500
DTEND;TZID=America/Denver:20240610T124500
DTSTAMP:20260425T093127
CREATED:20240521T161241Z
LAST-MODIFIED:20240521T220215Z
UID:11240-1718021700-1718023500@inspirationmetro.org
SUMMARY:Free School Lunches at the Pool\, Mon-Fri
DESCRIPTION:Douglas County School District is bringing their free school lunch program to Inspiration’s pool this summer!\nLunch boxes are free for ages 18 and under. Children must be present and lunches consumed on site. \nFree lunches will be available at the pool area Monday through Friday between 12:15 – 12:45pm.\nDates are from May 28th through August 2nd. Please note there will be no meal service on June 19 or July 4. \nSee the linked flyer for more details on this federally funded program.\nDCSD Nutrition Services Summer Flyer 2024
URL:https://inspirationmetro.org/event/free-school-lunches-2024/2024-06-10/
LOCATION:Inspiration Club Building\, 23396 E Glidden Dr\, Aurora\, CO\, 80016\, United States
END:VEVENT
BEGIN:VEVENT
DTSTART;TZID=America/Denver:20240603T121500
DTEND;TZID=America/Denver:20240603T124500
DTSTAMP:20260425T093127
CREATED:20240521T161241Z
LAST-MODIFIED:20240521T220215Z
UID:11239-1717416900-1717418700@inspirationmetro.org
SUMMARY:Free School Lunches at the Pool\, Mon-Fri
DESCRIPTION:Douglas County School District is bringing their free school lunch program to Inspiration’s pool this summer!\nLunch boxes are free for ages 18 and under. Children must be present and lunches consumed on site. \nFree lunches will be available at the pool area Monday through Friday between 12:15 – 12:45pm.\nDates are from May 28th through August 2nd. Please note there will be no meal service on June 19 or July 4. \nSee the linked flyer for more details on this federally funded program.\nDCSD Nutrition Services Summer Flyer 2024
URL:https://inspirationmetro.org/event/free-school-lunches-2024/2024-06-03/
LOCATION:Inspiration Club Building\, 23396 E Glidden Dr\, Aurora\, CO\, 80016\, United States
END:VEVENT
BEGIN:VEVENT
DTSTART;TZID=America/Denver:20240528T121500
DTEND;TZID=America/Denver:20240528T124500
DTSTAMP:20260425T093127
CREATED:20240521T161241Z
LAST-MODIFIED:20240521T220215Z
UID:11235-1716898500-1716900300@inspirationmetro.org
SUMMARY:Free School Lunches at the Pool\, Mon-Fri
DESCRIPTION:Douglas County School District is bringing their free school lunch program to Inspiration’s pool this summer!\nLunch boxes are free for ages 18 and under. Children must be present and lunches consumed on site. \nFree lunches will be available at the pool area Monday through Friday between 12:15 – 12:45pm.\nDates are from May 28th through August 2nd. Please note there will be no meal service on June 19 or July 4. \nSee the linked flyer for more details on this federally funded program.\nDCSD Nutrition Services Summer Flyer 2024
URL:https://inspirationmetro.org/event/free-school-lunches-2024/2024-05-28/
LOCATION:Inspiration Club Building\, 23396 E Glidden Dr\, Aurora\, CO\, 80016\, United States
END:VEVENT
END:VCALENDAR