BEGIN:VCALENDAR
VERSION:2.0
PRODID:-//Inspiration Metropolitan District - ECPv6.15.20//NONSGML v1.0//EN
CALSCALE:GREGORIAN
METHOD:PUBLISH
X-WR-CALNAME:Inspiration Metropolitan District
X-ORIGINAL-URL:https://inspirationmetro.org
X-WR-CALDESC:Events for Inspiration Metropolitan District
REFRESH-INTERVAL;VALUE=DURATION:PT1H
X-Robots-Tag:noindex
X-PUBLISHED-TTL:PT1H
BEGIN:VTIMEZONE
TZID:America/Denver
BEGIN:DAYLIGHT
TZOFFSETFROM:-0700
TZOFFSETTO:-0600
TZNAME:MDT
DTSTART:20250309T090000
END:DAYLIGHT
BEGIN:STANDARD
TZOFFSETFROM:-0600
TZOFFSETTO:-0700
TZNAME:MST
DTSTART:20251102T080000
END:STANDARD
BEGIN:DAYLIGHT
TZOFFSETFROM:-0700
TZOFFSETTO:-0600
TZNAME:MDT
DTSTART:20260308T090000
END:DAYLIGHT
BEGIN:STANDARD
TZOFFSETFROM:-0600
TZOFFSETTO:-0700
TZNAME:MST
DTSTART:20261101T080000
END:STANDARD
BEGIN:DAYLIGHT
TZOFFSETFROM:-0700
TZOFFSETTO:-0600
TZNAME:MDT
DTSTART:20270314T090000
END:DAYLIGHT
BEGIN:STANDARD
TZOFFSETFROM:-0600
TZOFFSETTO:-0700
TZNAME:MST
DTSTART:20271107T080000
END:STANDARD
END:VTIMEZONE
BEGIN:VEVENT
DTSTART;TZID=America/Denver:20260413T173000
DTEND;TZID=America/Denver:20260413T190000
DTSTAMP:20260424T080944
CREATED:20251117T213006Z
LAST-MODIFIED:20260210T174102Z
UID:16523-1776101400-1776106800@inspirationmetro.org
SUMMARY:Inspiration Club Committee
DESCRIPTION:Meeting agendas can be found on the Inspiration Club Committee page\, usually a day before the meeting date. \nMeetings are in-person attendance at the Inspiration Club Building and via Zoom:\nZoom meeting link:\nhttps://us06web.zoom.us/j/8637322103\nMeeting ID: 863 732 2103\nOr via telephone with dial in +1 669 900 6833
URL:https://inspirationmetro.org/event/inspiration-club-committee-2/2026-04-13/
LOCATION:Inspiration Club Building\, 23396 E Glidden Dr\, Aurora\, CO\, 80016\, United States
END:VEVENT
BEGIN:VEVENT
DTSTART;TZID=America/Denver:20260309T173000
DTEND;TZID=America/Denver:20260309T190000
DTSTAMP:20260424T080944
CREATED:20251117T213006Z
LAST-MODIFIED:20260210T174101Z
UID:16522-1773077400-1773082800@inspirationmetro.org
SUMMARY:Inspiration Club Committee
DESCRIPTION:Meeting agendas can be found on the Inspiration Club Committee page\, usually a day before the meeting date. \nMeetings are in-person attendance at the Inspiration Club Building and via Zoom:\nZoom meeting link:\nhttps://us06web.zoom.us/j/8637322103\nMeeting ID: 863 732 2103\nOr via telephone with dial in +1 669 900 6833
URL:https://inspirationmetro.org/event/inspiration-club-committee-2/2026-03-09/
LOCATION:Inspiration Club Building\, 23396 E Glidden Dr\, Aurora\, CO\, 80016\, United States
END:VEVENT
BEGIN:VEVENT
DTSTART;TZID=America/Denver:20260209T173000
DTEND;TZID=America/Denver:20260209T190000
DTSTAMP:20260424T080944
CREATED:20251117T213006Z
LAST-MODIFIED:20260210T174101Z
UID:16521-1770658200-1770663600@inspirationmetro.org
SUMMARY:Inspiration Club Committee
DESCRIPTION:Meeting agendas can be found on the Inspiration Club Committee page\, usually a day before the meeting date. \nMeetings are in-person attendance at the Inspiration Club Building and via Zoom:\nZoom meeting link:\nhttps://us06web.zoom.us/j/8637322103\nMeeting ID: 863 732 2103\nOr via telephone with dial in +1 669 900 6833
URL:https://inspirationmetro.org/event/inspiration-club-committee-2/2026-02-09/
LOCATION:Inspiration Club Building\, 23396 E Glidden Dr\, Aurora\, CO\, 80016\, United States
END:VEVENT
BEGIN:VEVENT
DTSTART;TZID=America/Denver:20260112T173000
DTEND;TZID=America/Denver:20260112T190000
DTSTAMP:20260424T080944
CREATED:20251117T213006Z
LAST-MODIFIED:20260210T174101Z
UID:16519-1768239000-1768244400@inspirationmetro.org
SUMMARY:Inspiration Club Committee
DESCRIPTION:Meeting agendas can be found on the Inspiration Club Committee page\, usually a day before the meeting date. \nMeetings are in-person attendance at the Inspiration Club Building and via Zoom:\nZoom meeting link:\nhttps://us06web.zoom.us/j/8637322103\nMeeting ID: 863 732 2103\nOr via telephone with dial in +1 669 900 6833
URL:https://inspirationmetro.org/event/inspiration-club-committee-2/2026-01-12/
LOCATION:Inspiration Club Building\, 23396 E Glidden Dr\, Aurora\, CO\, 80016\, United States
END:VEVENT
END:VCALENDAR