BEGIN:VCALENDAR
VERSION:2.0
PRODID:-//Inspiration Metropolitan District - ECPv6.15.20//NONSGML v1.0//EN
CALSCALE:GREGORIAN
METHOD:PUBLISH
X-ORIGINAL-URL:https://inspirationmetro.org
X-WR-CALDESC:Events for Inspiration Metropolitan District
REFRESH-INTERVAL;VALUE=DURATION:PT1H
X-Robots-Tag:noindex
X-PUBLISHED-TTL:PT1H
BEGIN:VTIMEZONE
TZID:America/Denver
BEGIN:DAYLIGHT
TZOFFSETFROM:-0700
TZOFFSETTO:-0600
TZNAME:MDT
DTSTART:20240310T090000
END:DAYLIGHT
BEGIN:STANDARD
TZOFFSETFROM:-0600
TZOFFSETTO:-0700
TZNAME:MST
DTSTART:20241103T080000
END:STANDARD
BEGIN:DAYLIGHT
TZOFFSETFROM:-0700
TZOFFSETTO:-0600
TZNAME:MDT
DTSTART:20250309T090000
END:DAYLIGHT
BEGIN:STANDARD
TZOFFSETFROM:-0600
TZOFFSETTO:-0700
TZNAME:MST
DTSTART:20251102T080000
END:STANDARD
BEGIN:DAYLIGHT
TZOFFSETFROM:-0700
TZOFFSETTO:-0600
TZNAME:MDT
DTSTART:20260308T090000
END:DAYLIGHT
BEGIN:STANDARD
TZOFFSETFROM:-0600
TZOFFSETTO:-0700
TZNAME:MST
DTSTART:20261101T080000
END:STANDARD
END:VTIMEZONE
BEGIN:VEVENT
DTSTART;TZID=America/Denver:20250526T173000
DTEND;TZID=America/Denver:20250526T190000
DTSTAMP:20260424T120819
CREATED:20250318T163834Z
LAST-MODIFIED:20250529T154156Z
UID:13637-1748280600-1748286000@inspirationmetro.org
SUMMARY:Inspiration Club Subcommittee
DESCRIPTION:Meeting agendas can be found on the Inspiration Club Subcommittee page\, usually a day before the meeting date. \nZoom meeting link:\nhttps://us06web.zoom.us/j/8637322103\nMeeting ID: 863 732 2103\nOr via telephone with dial in +1 669 900 6833
URL:https://inspirationmetro.org/event/inspiration-club-subcommittee-3/2025-05-26/
END:VEVENT
BEGIN:VEVENT
DTSTART;TZID=America/Denver:20250512T173000
DTEND;TZID=America/Denver:20250512T190000
DTSTAMP:20260424T120819
CREATED:20250318T163834Z
LAST-MODIFIED:20250529T154153Z
UID:13636-1747071000-1747076400@inspirationmetro.org
SUMMARY:Inspiration Club Subcommittee
DESCRIPTION:Meeting agendas can be found on the Inspiration Club Subcommittee page\, usually a day before the meeting date. \nZoom meeting link:\nhttps://us06web.zoom.us/j/8637322103\nMeeting ID: 863 732 2103\nOr via telephone with dial in +1 669 900 6833
URL:https://inspirationmetro.org/event/inspiration-club-subcommittee-3/2025-05-12/
END:VEVENT
BEGIN:VEVENT
DTSTART;TZID=America/Denver:20250428T173000
DTEND;TZID=America/Denver:20250428T190000
DTSTAMP:20260424T120819
CREATED:20250318T163834Z
LAST-MODIFIED:20250529T154150Z
UID:13635-1745861400-1745866800@inspirationmetro.org
SUMMARY:Inspiration Club Subcommittee
DESCRIPTION:Meeting agendas can be found on the Inspiration Club Subcommittee page\, usually a day before the meeting date. \nZoom meeting link:\nhttps://us06web.zoom.us/j/8637322103\nMeeting ID: 863 732 2103\nOr via telephone with dial in +1 669 900 6833
URL:https://inspirationmetro.org/event/inspiration-club-subcommittee-3/2025-04-28/
END:VEVENT
BEGIN:VEVENT
DTSTART;TZID=America/Denver:20250414T173000
DTEND;TZID=America/Denver:20250414T190000
DTSTAMP:20260424T120819
CREATED:20250318T163834Z
LAST-MODIFIED:20250529T154141Z
UID:13634-1744651800-1744657200@inspirationmetro.org
SUMMARY:Inspiration Club Subcommittee
DESCRIPTION:Meeting agendas can be found on the Inspiration Club Subcommittee page\, usually a day before the meeting date. \nZoom meeting link:\nhttps://us06web.zoom.us/j/8637322103\nMeeting ID: 863 732 2103\nOr via telephone with dial in +1 669 900 6833
URL:https://inspirationmetro.org/event/inspiration-club-subcommittee-3/2025-04-14/
END:VEVENT
BEGIN:VEVENT
DTSTART;TZID=America/Denver:20250331T173000
DTEND;TZID=America/Denver:20250331T190000
DTSTAMP:20260424T120819
CREATED:20250318T163834Z
LAST-MODIFIED:20250529T154132Z
UID:13633-1743442200-1743447600@inspirationmetro.org
SUMMARY:Inspiration Club Subcommittee
DESCRIPTION:Meeting agendas can be found on the Inspiration Club Subcommittee page\, usually a day before the meeting date. \nZoom meeting link:\nhttps://us06web.zoom.us/j/8637322103\nMeeting ID: 863 732 2103\nOr via telephone with dial in +1 669 900 6833
URL:https://inspirationmetro.org/event/inspiration-club-subcommittee-3/2025-03-31/
END:VEVENT
END:VCALENDAR