BEGIN:VCALENDAR
VERSION:2.0
PRODID:-//Inspiration Metropolitan District - ECPv6.15.20//NONSGML v1.0//EN
CALSCALE:GREGORIAN
METHOD:PUBLISH
X-ORIGINAL-URL:https://inspirationmetro.org
X-WR-CALDESC:Events for Inspiration Metropolitan District
REFRESH-INTERVAL;VALUE=DURATION:PT1H
X-Robots-Tag:noindex
X-PUBLISHED-TTL:PT1H
BEGIN:VTIMEZONE
TZID:America/Denver
BEGIN:DAYLIGHT
TZOFFSETFROM:-0700
TZOFFSETTO:-0600
TZNAME:MDT
DTSTART:20250309T090000
END:DAYLIGHT
BEGIN:STANDARD
TZOFFSETFROM:-0600
TZOFFSETTO:-0700
TZNAME:MST
DTSTART:20251102T080000
END:STANDARD
BEGIN:DAYLIGHT
TZOFFSETFROM:-0700
TZOFFSETTO:-0600
TZNAME:MDT
DTSTART:20260308T090000
END:DAYLIGHT
BEGIN:STANDARD
TZOFFSETFROM:-0600
TZOFFSETTO:-0700
TZNAME:MST
DTSTART:20261101T080000
END:STANDARD
BEGIN:DAYLIGHT
TZOFFSETFROM:-0700
TZOFFSETTO:-0600
TZNAME:MDT
DTSTART:20270314T090000
END:DAYLIGHT
BEGIN:STANDARD
TZOFFSETFROM:-0600
TZOFFSETTO:-0700
TZNAME:MST
DTSTART:20271107T080000
END:STANDARD
END:VTIMEZONE
BEGIN:VEVENT
DTSTART;TZID=America/Denver:20260520T173000
DTEND;TZID=America/Denver:20260520T190000
DTSTAMP:20260424T103631
CREATED:20241218T185939Z
LAST-MODIFIED:20251120T164635Z
UID:16536-1779298200-1779303600@inspirationmetro.org
SUMMARY:Residential Improvement Guidelines Committee Meeting
DESCRIPTION:Meeting agendas can be found on the Residential Improvement Guidelines Committee page\, usually a day before the meeting date. \nNote: meetings to be held hybrid in-person at Inspiration Club building and Zoom. \nZoom meeting link:\nhttps://us06web.zoom.us/j/8637322103\nMeeting ID: 863 732 2103\nOr via telephone with dial in +1 669 900 6833
URL:https://inspirationmetro.org/event/residential-improvement-guidelines-committee-meeting/2026-05-20/
END:VEVENT
BEGIN:VEVENT
DTSTART;TZID=America/Denver:20260617T173000
DTEND;TZID=America/Denver:20260617T190000
DTSTAMP:20260424T103631
CREATED:20241218T185939Z
LAST-MODIFIED:20251120T164635Z
UID:16537-1781717400-1781722800@inspirationmetro.org
SUMMARY:Residential Improvement Guidelines Committee Meeting
DESCRIPTION:Meeting agendas can be found on the Residential Improvement Guidelines Committee page\, usually a day before the meeting date. \nNote: meetings to be held hybrid in-person at Inspiration Club building and Zoom. \nZoom meeting link:\nhttps://us06web.zoom.us/j/8637322103\nMeeting ID: 863 732 2103\nOr via telephone with dial in +1 669 900 6833
URL:https://inspirationmetro.org/event/residential-improvement-guidelines-committee-meeting/2026-06-17/
END:VEVENT
BEGIN:VEVENT
DTSTART;TZID=America/Denver:20260715T173000
DTEND;TZID=America/Denver:20260715T190000
DTSTAMP:20260424T103631
CREATED:20241218T185939Z
LAST-MODIFIED:20251120T164635Z
UID:16538-1784136600-1784142000@inspirationmetro.org
SUMMARY:Residential Improvement Guidelines Committee Meeting
DESCRIPTION:Meeting agendas can be found on the Residential Improvement Guidelines Committee page\, usually a day before the meeting date. \nNote: meetings to be held hybrid in-person at Inspiration Club building and Zoom. \nZoom meeting link:\nhttps://us06web.zoom.us/j/8637322103\nMeeting ID: 863 732 2103\nOr via telephone with dial in +1 669 900 6833
URL:https://inspirationmetro.org/event/residential-improvement-guidelines-committee-meeting/2026-07-15/
END:VEVENT
BEGIN:VEVENT
DTSTART;TZID=America/Denver:20260819T173000
DTEND;TZID=America/Denver:20260819T190000
DTSTAMP:20260424T103631
CREATED:20241218T185939Z
LAST-MODIFIED:20251120T164635Z
UID:16539-1787160600-1787166000@inspirationmetro.org
SUMMARY:Residential Improvement Guidelines Committee Meeting
DESCRIPTION:Meeting agendas can be found on the Residential Improvement Guidelines Committee page\, usually a day before the meeting date. \nNote: meetings to be held hybrid in-person at Inspiration Club building and Zoom. \nZoom meeting link:\nhttps://us06web.zoom.us/j/8637322103\nMeeting ID: 863 732 2103\nOr via telephone with dial in +1 669 900 6833
URL:https://inspirationmetro.org/event/residential-improvement-guidelines-committee-meeting/2026-08-19/
END:VEVENT
BEGIN:VEVENT
DTSTART;TZID=America/Denver:20260916T173000
DTEND;TZID=America/Denver:20260916T190000
DTSTAMP:20260424T103631
CREATED:20241218T185939Z
LAST-MODIFIED:20251120T164636Z
UID:16540-1789579800-1789585200@inspirationmetro.org
SUMMARY:Residential Improvement Guidelines Committee Meeting
DESCRIPTION:Meeting agendas can be found on the Residential Improvement Guidelines Committee page\, usually a day before the meeting date. \nNote: meetings to be held hybrid in-person at Inspiration Club building and Zoom. \nZoom meeting link:\nhttps://us06web.zoom.us/j/8637322103\nMeeting ID: 863 732 2103\nOr via telephone with dial in +1 669 900 6833
URL:https://inspirationmetro.org/event/residential-improvement-guidelines-committee-meeting/2026-09-16/
END:VEVENT
BEGIN:VEVENT
DTSTART;TZID=America/Denver:20261021T173000
DTEND;TZID=America/Denver:20261021T190000
DTSTAMP:20260424T103631
CREATED:20241218T185939Z
LAST-MODIFIED:20251120T164636Z
UID:16541-1792603800-1792609200@inspirationmetro.org
SUMMARY:Residential Improvement Guidelines Committee Meeting
DESCRIPTION:Meeting agendas can be found on the Residential Improvement Guidelines Committee page\, usually a day before the meeting date. \nNote: meetings to be held hybrid in-person at Inspiration Club building and Zoom. \nZoom meeting link:\nhttps://us06web.zoom.us/j/8637322103\nMeeting ID: 863 732 2103\nOr via telephone with dial in +1 669 900 6833
URL:https://inspirationmetro.org/event/residential-improvement-guidelines-committee-meeting/2026-10-21/
END:VEVENT
BEGIN:VEVENT
DTSTART;TZID=America/Denver:20261118T173000
DTEND;TZID=America/Denver:20261118T190000
DTSTAMP:20260424T103631
CREATED:20241218T185939Z
LAST-MODIFIED:20251120T164638Z
UID:16542-1795023000-1795028400@inspirationmetro.org
SUMMARY:Residential Improvement Guidelines Committee Meeting
DESCRIPTION:Meeting agendas can be found on the Residential Improvement Guidelines Committee page\, usually a day before the meeting date. \nNote: meetings to be held hybrid in-person at Inspiration Club building and Zoom. \nZoom meeting link:\nhttps://us06web.zoom.us/j/8637322103\nMeeting ID: 863 732 2103\nOr via telephone with dial in +1 669 900 6833
URL:https://inspirationmetro.org/event/residential-improvement-guidelines-committee-meeting/2026-11-18/
END:VEVENT
BEGIN:VEVENT
DTSTART;TZID=America/Denver:20261216T173000
DTEND;TZID=America/Denver:20261216T190000
DTSTAMP:20260424T103631
CREATED:20241218T185939Z
LAST-MODIFIED:20251120T164638Z
UID:16543-1797442200-1797447600@inspirationmetro.org
SUMMARY:Residential Improvement Guidelines Committee Meeting
DESCRIPTION:Meeting agendas can be found on the Residential Improvement Guidelines Committee page\, usually a day before the meeting date. \nNote: meetings to be held hybrid in-person at Inspiration Club building and Zoom. \nZoom meeting link:\nhttps://us06web.zoom.us/j/8637322103\nMeeting ID: 863 732 2103\nOr via telephone with dial in +1 669 900 6833
URL:https://inspirationmetro.org/event/residential-improvement-guidelines-committee-meeting/2026-12-16/
END:VEVENT
END:VCALENDAR