BEGIN:VCALENDAR
VERSION:2.0
PRODID:-//Inspiration Metropolitan District - ECPv6.15.20//NONSGML v1.0//EN
CALSCALE:GREGORIAN
METHOD:PUBLISH
X-WR-CALNAME:Inspiration Metropolitan District
X-ORIGINAL-URL:https://inspirationmetro.org
X-WR-CALDESC:Events for Inspiration Metropolitan District
REFRESH-INTERVAL;VALUE=DURATION:PT1H
X-Robots-Tag:noindex
X-PUBLISHED-TTL:PT1H
BEGIN:VTIMEZONE
TZID:America/Denver
BEGIN:DAYLIGHT
TZOFFSETFROM:-0700
TZOFFSETTO:-0600
TZNAME:MDT
DTSTART:20210314T090000
END:DAYLIGHT
BEGIN:STANDARD
TZOFFSETFROM:-0600
TZOFFSETTO:-0700
TZNAME:MST
DTSTART:20211107T080000
END:STANDARD
BEGIN:DAYLIGHT
TZOFFSETFROM:-0700
TZOFFSETTO:-0600
TZNAME:MDT
DTSTART:20220313T090000
END:DAYLIGHT
BEGIN:STANDARD
TZOFFSETFROM:-0600
TZOFFSETTO:-0700
TZNAME:MST
DTSTART:20221106T080000
END:STANDARD
BEGIN:DAYLIGHT
TZOFFSETFROM:-0700
TZOFFSETTO:-0600
TZNAME:MDT
DTSTART:20230312T090000
END:DAYLIGHT
BEGIN:STANDARD
TZOFFSETFROM:-0600
TZOFFSETTO:-0700
TZNAME:MST
DTSTART:20231105T080000
END:STANDARD
END:VTIMEZONE
BEGIN:VEVENT
DTSTART;TZID=America/Denver:20221019T173000
DTEND;TZID=America/Denver:20221019T193000
DTSTAMP:20260425T184727
CREATED:20220505T013155Z
LAST-MODIFIED:20221011T013640Z
UID:3917-1666200600-1666207800@inspirationmetro.org
SUMMARY:Residential Improvement Committee
DESCRIPTION:Committee meeting agendas can be found on the Residential Improvement Committee page\, usually a day before the meeting date. \n  \nhttps://us06web.zoom.us/j/8637322103 \nMeeting ID: 863 732 2103 \nOne tap mobile +13462487799\,\,8637322103# \nDial in +1 669 900 6833 \nFind your local number: https://us06web.zoom.us/u/kdxGhy5cB4
URL:https://inspirationmetro.org/event/ric/2022-10-19/
END:VEVENT
END:VCALENDAR