BEGIN:VCALENDAR
VERSION:2.0
PRODID:-//Inspiration Metropolitan District - ECPv6.15.20//NONSGML v1.0//EN
CALSCALE:GREGORIAN
METHOD:PUBLISH
X-ORIGINAL-URL:https://inspirationmetro.org
X-WR-CALDESC:Events for Inspiration Metropolitan District
REFRESH-INTERVAL;VALUE=DURATION:PT1H
X-Robots-Tag:noindex
X-PUBLISHED-TTL:PT1H
BEGIN:VTIMEZONE
TZID:America/Denver
BEGIN:DAYLIGHT
TZOFFSETFROM:-0700
TZOFFSETTO:-0600
TZNAME:MDT
DTSTART:20230312T090000
END:DAYLIGHT
BEGIN:STANDARD
TZOFFSETFROM:-0600
TZOFFSETTO:-0700
TZNAME:MST
DTSTART:20231105T080000
END:STANDARD
BEGIN:DAYLIGHT
TZOFFSETFROM:-0700
TZOFFSETTO:-0600
TZNAME:MDT
DTSTART:20240310T090000
END:DAYLIGHT
BEGIN:STANDARD
TZOFFSETFROM:-0600
TZOFFSETTO:-0700
TZNAME:MST
DTSTART:20241103T080000
END:STANDARD
BEGIN:DAYLIGHT
TZOFFSETFROM:-0700
TZOFFSETTO:-0600
TZNAME:MDT
DTSTART:20250309T090000
END:DAYLIGHT
BEGIN:STANDARD
TZOFFSETFROM:-0600
TZOFFSETTO:-0700
TZNAME:MST
DTSTART:20251102T080000
END:STANDARD
END:VTIMEZONE
BEGIN:VEVENT
DTSTART;TZID=America/Denver:20241120T173000
DTEND;TZID=America/Denver:20241120T190000
DTSTAMP:20260425T072523
CREATED:20231211T180740Z
LAST-MODIFIED:20231211T180810Z
UID:7277-1732123800-1732129200@inspirationmetro.org
SUMMARY:Residential Improvement Guidelines Committee Meeting
DESCRIPTION:Meeting agendas can be found on the Residential Improvement Guidelines Committee page\, usually a day before the meeting date. \nZoom meeting link:\nhttps://us06web.zoom.us/j/8637322103\nMeeting ID: 863 732 2103\nOr via telephone with dial in +1 669 900 6833
URL:https://inspirationmetro.org/event/rigc/2024-11-20/
END:VEVENT
BEGIN:VEVENT
DTSTART;TZID=America/Denver:20241016T173000
DTEND;TZID=America/Denver:20241016T190000
DTSTAMP:20260425T072523
CREATED:20231211T180740Z
LAST-MODIFIED:20231211T180809Z
UID:7276-1729099800-1729105200@inspirationmetro.org
SUMMARY:Residential Improvement Guidelines Committee Meeting
DESCRIPTION:Meeting agendas can be found on the Residential Improvement Guidelines Committee page\, usually a day before the meeting date. \nZoom meeting link:\nhttps://us06web.zoom.us/j/8637322103\nMeeting ID: 863 732 2103\nOr via telephone with dial in +1 669 900 6833
URL:https://inspirationmetro.org/event/rigc/2024-10-16/
END:VEVENT
BEGIN:VEVENT
DTSTART;TZID=America/Denver:20240918T173000
DTEND;TZID=America/Denver:20240918T190000
DTSTAMP:20260425T072523
CREATED:20231211T180740Z
LAST-MODIFIED:20231211T180809Z
UID:7275-1726680600-1726686000@inspirationmetro.org
SUMMARY:Residential Improvement Guidelines Committee Meeting
DESCRIPTION:Meeting agendas can be found on the Residential Improvement Guidelines Committee page\, usually a day before the meeting date. \nZoom meeting link:\nhttps://us06web.zoom.us/j/8637322103\nMeeting ID: 863 732 2103\nOr via telephone with dial in +1 669 900 6833
URL:https://inspirationmetro.org/event/rigc/2024-09-18/
END:VEVENT
BEGIN:VEVENT
DTSTART;TZID=America/Denver:20240821T173000
DTEND;TZID=America/Denver:20240821T190000
DTSTAMP:20260425T072523
CREATED:20231211T180740Z
LAST-MODIFIED:20231211T180809Z
UID:7274-1724261400-1724266800@inspirationmetro.org
SUMMARY:Residential Improvement Guidelines Committee Meeting
DESCRIPTION:Meeting agendas can be found on the Residential Improvement Guidelines Committee page\, usually a day before the meeting date. \nZoom meeting link:\nhttps://us06web.zoom.us/j/8637322103\nMeeting ID: 863 732 2103\nOr via telephone with dial in +1 669 900 6833
URL:https://inspirationmetro.org/event/rigc/2024-08-21/
END:VEVENT
BEGIN:VEVENT
DTSTART;TZID=America/Denver:20240717T173000
DTEND;TZID=America/Denver:20240717T190000
DTSTAMP:20260425T072523
CREATED:20231211T180740Z
LAST-MODIFIED:20231211T180808Z
UID:7273-1721237400-1721242800@inspirationmetro.org
SUMMARY:Residential Improvement Guidelines Committee Meeting
DESCRIPTION:Meeting agendas can be found on the Residential Improvement Guidelines Committee page\, usually a day before the meeting date. \nZoom meeting link:\nhttps://us06web.zoom.us/j/8637322103\nMeeting ID: 863 732 2103\nOr via telephone with dial in +1 669 900 6833
URL:https://inspirationmetro.org/event/rigc/2024-07-17/
END:VEVENT
BEGIN:VEVENT
DTSTART;TZID=America/Denver:20240619T173000
DTEND;TZID=America/Denver:20240619T190000
DTSTAMP:20260425T072523
CREATED:20231211T180740Z
LAST-MODIFIED:20231211T180808Z
UID:7272-1718818200-1718823600@inspirationmetro.org
SUMMARY:Residential Improvement Guidelines Committee Meeting
DESCRIPTION:Meeting agendas can be found on the Residential Improvement Guidelines Committee page\, usually a day before the meeting date. \nZoom meeting link:\nhttps://us06web.zoom.us/j/8637322103\nMeeting ID: 863 732 2103\nOr via telephone with dial in +1 669 900 6833
URL:https://inspirationmetro.org/event/rigc/2024-06-19/
END:VEVENT
BEGIN:VEVENT
DTSTART;TZID=America/Denver:20240515T173000
DTEND;TZID=America/Denver:20240515T190000
DTSTAMP:20260425T072523
CREATED:20231211T180740Z
LAST-MODIFIED:20231211T180808Z
UID:7271-1715794200-1715799600@inspirationmetro.org
SUMMARY:Residential Improvement Guidelines Committee Meeting
DESCRIPTION:Meeting agendas can be found on the Residential Improvement Guidelines Committee page\, usually a day before the meeting date. \nZoom meeting link:\nhttps://us06web.zoom.us/j/8637322103\nMeeting ID: 863 732 2103\nOr via telephone with dial in +1 669 900 6833
URL:https://inspirationmetro.org/event/rigc/2024-05-15/
END:VEVENT
BEGIN:VEVENT
DTSTART;TZID=America/Denver:20240417T173000
DTEND;TZID=America/Denver:20240417T190000
DTSTAMP:20260425T072523
CREATED:20231211T180740Z
LAST-MODIFIED:20231211T180807Z
UID:7270-1713375000-1713380400@inspirationmetro.org
SUMMARY:Residential Improvement Guidelines Committee Meeting
DESCRIPTION:Meeting agendas can be found on the Residential Improvement Guidelines Committee page\, usually a day before the meeting date. \nZoom meeting link:\nhttps://us06web.zoom.us/j/8637322103\nMeeting ID: 863 732 2103\nOr via telephone with dial in +1 669 900 6833
URL:https://inspirationmetro.org/event/rigc/2024-04-17/
END:VEVENT
BEGIN:VEVENT
DTSTART;TZID=America/Denver:20240320T173000
DTEND;TZID=America/Denver:20240320T190000
DTSTAMP:20260425T072523
CREATED:20231211T180740Z
LAST-MODIFIED:20231211T180807Z
UID:7269-1710955800-1710961200@inspirationmetro.org
SUMMARY:Residential Improvement Guidelines Committee Meeting
DESCRIPTION:Meeting agendas can be found on the Residential Improvement Guidelines Committee page\, usually a day before the meeting date. \nZoom meeting link:\nhttps://us06web.zoom.us/j/8637322103\nMeeting ID: 863 732 2103\nOr via telephone with dial in +1 669 900 6833
URL:https://inspirationmetro.org/event/rigc/2024-03-20/
END:VEVENT
BEGIN:VEVENT
DTSTART;TZID=America/Denver:20240221T173000
DTEND;TZID=America/Denver:20240221T190000
DTSTAMP:20260425T072523
CREATED:20231211T180740Z
LAST-MODIFIED:20231211T180807Z
UID:7268-1708536600-1708542000@inspirationmetro.org
SUMMARY:Residential Improvement Guidelines Committee Meeting
DESCRIPTION:Meeting agendas can be found on the Residential Improvement Guidelines Committee page\, usually a day before the meeting date. \nZoom meeting link:\nhttps://us06web.zoom.us/j/8637322103\nMeeting ID: 863 732 2103\nOr via telephone with dial in +1 669 900 6833
URL:https://inspirationmetro.org/event/rigc/2024-02-21/
END:VEVENT
BEGIN:VEVENT
DTSTART;TZID=America/Denver:20240117T173000
DTEND;TZID=America/Denver:20240117T190000
DTSTAMP:20260425T072523
CREATED:20231211T180740Z
LAST-MODIFIED:20231211T180806Z
UID:7266-1705512600-1705518000@inspirationmetro.org
SUMMARY:Residential Improvement Guidelines Committee Meeting
DESCRIPTION:Meeting agendas can be found on the Residential Improvement Guidelines Committee page\, usually a day before the meeting date. \nZoom meeting link:\nhttps://us06web.zoom.us/j/8637322103\nMeeting ID: 863 732 2103\nOr via telephone with dial in +1 669 900 6833
URL:https://inspirationmetro.org/event/rigc/2024-01-17/
END:VEVENT
END:VCALENDAR