BEGIN:VCALENDAR
VERSION:2.0
PRODID:-//Inspiration Metropolitan District - ECPv6.15.20//NONSGML v1.0//EN
CALSCALE:GREGORIAN
METHOD:PUBLISH
X-WR-CALNAME:Inspiration Metropolitan District
X-ORIGINAL-URL:https://inspirationmetro.org
X-WR-CALDESC:Events for Inspiration Metropolitan District
REFRESH-INTERVAL;VALUE=DURATION:PT1H
X-Robots-Tag:noindex
X-PUBLISHED-TTL:PT1H
BEGIN:VTIMEZONE
TZID:America/Denver
BEGIN:DAYLIGHT
TZOFFSETFROM:-0700
TZOFFSETTO:-0600
TZNAME:MDT
DTSTART:20250309T090000
END:DAYLIGHT
BEGIN:STANDARD
TZOFFSETFROM:-0600
TZOFFSETTO:-0700
TZNAME:MST
DTSTART:20251102T080000
END:STANDARD
BEGIN:DAYLIGHT
TZOFFSETFROM:-0700
TZOFFSETTO:-0600
TZNAME:MDT
DTSTART:20260308T090000
END:DAYLIGHT
BEGIN:STANDARD
TZOFFSETFROM:-0600
TZOFFSETTO:-0700
TZNAME:MST
DTSTART:20261101T080000
END:STANDARD
BEGIN:DAYLIGHT
TZOFFSETFROM:-0700
TZOFFSETTO:-0600
TZNAME:MDT
DTSTART:20270314T090000
END:DAYLIGHT
BEGIN:STANDARD
TZOFFSETFROM:-0600
TZOFFSETTO:-0700
TZNAME:MST
DTSTART:20271107T080000
END:STANDARD
END:VTIMEZONE
BEGIN:VEVENT
DTSTART;TZID=America/Denver:20260203T173000
DTEND;TZID=America/Denver:20260203T183000
DTSTAMP:20260424T154630
CREATED:20250910T170142Z
LAST-MODIFIED:20250910T170142Z
UID:17474-1770139800-1770143400@inspirationmetro.org
SUMMARY:Strategic Plan Ad Hoc Committee Meeting
DESCRIPTION:Meeting agendas can be found on the Strategic Plan Ad Hoc Committee page\, usually a day before the meeting date. \nThis meeting will be held via teleconference – Zoom Information:\nhttps://us06web.zoom.us/j/8637322103\nMeeting ID: 863 732 2103\nOne tap mobile +13462487799\,\,8637322103#\nDial in +1 669 900 6833\nFind your local number: https://us06web.zoom.us/u/kdxGhy5cB4
URL:https://inspirationmetro.org/event/strategic-planning-steering-committee-meeting-2025-10-07-2026-01-06/2026-02-03/
END:VEVENT
BEGIN:VEVENT
DTSTART;TZID=America/Denver:20260106T173000
DTEND;TZID=America/Denver:20260106T183000
DTSTAMP:20260424T154630
CREATED:20250910T170142Z
LAST-MODIFIED:20260128T230305Z
UID:15518-1767720600-1767724200@inspirationmetro.org
SUMMARY:Strategic Plan Ad Hoc Committee Meeting
DESCRIPTION:Meeting agendas can be found on the Strategic Plan Ad Hoc Committee page\, usually a day before the meeting date. \nThis meeting will be held via teleconference – Zoom Information:\nhttps://us06web.zoom.us/j/8637322103\nMeeting ID: 863 732 2103\nOne tap mobile +13462487799\,\,8637322103#\nDial in +1 669 900 6833\nFind your local number: https://us06web.zoom.us/u/kdxGhy5cB4
URL:https://inspirationmetro.org/event/strategic-planning-steering-committee-meeting-2025-10-07-2026-01-06/2026-01-06/
END:VEVENT
END:VCALENDAR