BEGIN:VCALENDAR
VERSION:2.0
PRODID:-//Inspiration Metropolitan District - ECPv6.15.20//NONSGML v1.0//EN
CALSCALE:GREGORIAN
METHOD:PUBLISH
X-ORIGINAL-URL:https://inspirationmetro.org
X-WR-CALDESC:Events for Inspiration Metropolitan District
REFRESH-INTERVAL;VALUE=DURATION:PT1H
X-Robots-Tag:noindex
X-PUBLISHED-TTL:PT1H
BEGIN:VTIMEZONE
TZID:America/Denver
BEGIN:DAYLIGHT
TZOFFSETFROM:-0700
TZOFFSETTO:-0600
TZNAME:MDT
DTSTART:20220313T090000
END:DAYLIGHT
BEGIN:STANDARD
TZOFFSETFROM:-0600
TZOFFSETTO:-0700
TZNAME:MST
DTSTART:20221106T080000
END:STANDARD
BEGIN:DAYLIGHT
TZOFFSETFROM:-0700
TZOFFSETTO:-0600
TZNAME:MDT
DTSTART:20230312T090000
END:DAYLIGHT
BEGIN:STANDARD
TZOFFSETFROM:-0600
TZOFFSETTO:-0700
TZNAME:MST
DTSTART:20231105T080000
END:STANDARD
BEGIN:DAYLIGHT
TZOFFSETFROM:-0700
TZOFFSETTO:-0600
TZNAME:MDT
DTSTART:20240310T090000
END:DAYLIGHT
BEGIN:STANDARD
TZOFFSETFROM:-0600
TZOFFSETTO:-0700
TZNAME:MST
DTSTART:20241103T080000
END:STANDARD
END:VTIMEZONE
BEGIN:VEVENT
DTSTART;VALUE=DATE:20231213
DTEND;VALUE=DATE:20231214
DTSTAMP:20260425T200750
CREATED:20221227T232758Z
LAST-MODIFIED:20231211T232002Z
UID:5350-1702425600-1702511999@inspirationmetro.org
SUMMARY:Trash Pickup
DESCRIPTION:Trash pickup is every week. This week is trash only (no recycling). \nContact Waste Connections for customer service\, to report a missed pickup\, or to arrange a special collection\nCall 303-288-2100 or use the Waste Connections phone app or visit their website: https://www.wasteconnections.com/denver/
URL:https://inspirationmetro.org/event/trash-only/2023-12-13/
END:VEVENT
BEGIN:VEVENT
DTSTART;VALUE=DATE:20231129
DTEND;VALUE=DATE:20231130
DTSTAMP:20260425T200750
CREATED:20221227T232758Z
LAST-MODIFIED:20231211T232001Z
UID:5349-1701216000-1701302399@inspirationmetro.org
SUMMARY:Trash Pickup
DESCRIPTION:Trash pickup is every week. This week is trash only (no recycling). \nContact Waste Connections for customer service\, to report a missed pickup\, or to arrange a special collection\nCall 303-288-2100 or use the Waste Connections phone app or visit their website: https://www.wasteconnections.com/denver/
URL:https://inspirationmetro.org/event/trash-only/2023-11-29/
END:VEVENT
BEGIN:VEVENT
DTSTART;VALUE=DATE:20231115
DTEND;VALUE=DATE:20231116
DTSTAMP:20260425T200750
CREATED:20221227T232758Z
LAST-MODIFIED:20231211T232001Z
UID:5348-1700006400-1700092799@inspirationmetro.org
SUMMARY:Trash Pickup
DESCRIPTION:Trash pickup is every week. This week is trash only (no recycling). \nContact Waste Connections for customer service\, to report a missed pickup\, or to arrange a special collection\nCall 303-288-2100 or use the Waste Connections phone app or visit their website: https://www.wasteconnections.com/denver/
URL:https://inspirationmetro.org/event/trash-only/2023-11-15/
END:VEVENT
BEGIN:VEVENT
DTSTART;VALUE=DATE:20231101
DTEND;VALUE=DATE:20231102
DTSTAMP:20260425T200750
CREATED:20221227T232758Z
LAST-MODIFIED:20231211T232000Z
UID:5347-1698796800-1698883199@inspirationmetro.org
SUMMARY:Trash Pickup
DESCRIPTION:Trash pickup is every week. This week is trash only (no recycling). \nContact Waste Connections for customer service\, to report a missed pickup\, or to arrange a special collection\nCall 303-288-2100 or use the Waste Connections phone app or visit their website: https://www.wasteconnections.com/denver/
URL:https://inspirationmetro.org/event/trash-only/2023-11-01/
END:VEVENT
BEGIN:VEVENT
DTSTART;VALUE=DATE:20231018
DTEND;VALUE=DATE:20231019
DTSTAMP:20260425T200750
CREATED:20221227T232758Z
LAST-MODIFIED:20231211T232000Z
UID:5346-1697587200-1697673599@inspirationmetro.org
SUMMARY:Trash Pickup
DESCRIPTION:Trash pickup is every week. This week is trash only (no recycling). \nContact Waste Connections for customer service\, to report a missed pickup\, or to arrange a special collection\nCall 303-288-2100 or use the Waste Connections phone app or visit their website: https://www.wasteconnections.com/denver/
URL:https://inspirationmetro.org/event/trash-only/2023-10-18/
END:VEVENT
BEGIN:VEVENT
DTSTART;VALUE=DATE:20231004
DTEND;VALUE=DATE:20231005
DTSTAMP:20260425T200750
CREATED:20221227T232758Z
LAST-MODIFIED:20231211T231959Z
UID:5345-1696377600-1696463999@inspirationmetro.org
SUMMARY:Trash Pickup
DESCRIPTION:Trash pickup is every week. This week is trash only (no recycling). \nContact Waste Connections for customer service\, to report a missed pickup\, or to arrange a special collection\nCall 303-288-2100 or use the Waste Connections phone app or visit their website: https://www.wasteconnections.com/denver/
URL:https://inspirationmetro.org/event/trash-only/2023-10-04/
END:VEVENT
BEGIN:VEVENT
DTSTART;VALUE=DATE:20230920
DTEND;VALUE=DATE:20230921
DTSTAMP:20260425T200750
CREATED:20221227T232758Z
LAST-MODIFIED:20231211T231959Z
UID:5344-1695168000-1695254399@inspirationmetro.org
SUMMARY:Trash Pickup
DESCRIPTION:Trash pickup is every week. This week is trash only (no recycling). \nContact Waste Connections for customer service\, to report a missed pickup\, or to arrange a special collection\nCall 303-288-2100 or use the Waste Connections phone app or visit their website: https://www.wasteconnections.com/denver/
URL:https://inspirationmetro.org/event/trash-only/2023-09-20/
END:VEVENT
BEGIN:VEVENT
DTSTART;VALUE=DATE:20230823
DTEND;VALUE=DATE:20230824
DTSTAMP:20260425T200750
CREATED:20221227T232758Z
LAST-MODIFIED:20231211T231959Z
UID:5342-1692748800-1692835199@inspirationmetro.org
SUMMARY:Trash Pickup
DESCRIPTION:Trash pickup is every week. This week is trash only (no recycling). \nContact Waste Connections for customer service\, to report a missed pickup\, or to arrange a special collection\nCall 303-288-2100 or use the Waste Connections phone app or visit their website: https://www.wasteconnections.com/denver/
URL:https://inspirationmetro.org/event/trash-only/2023-08-23/
END:VEVENT
BEGIN:VEVENT
DTSTART;VALUE=DATE:20230809
DTEND;VALUE=DATE:20230810
DTSTAMP:20260425T200750
CREATED:20221227T232758Z
LAST-MODIFIED:20231211T231958Z
UID:5341-1691539200-1691625599@inspirationmetro.org
SUMMARY:Trash Pickup
DESCRIPTION:Trash pickup is every week. This week is trash only (no recycling). \nContact Waste Connections for customer service\, to report a missed pickup\, or to arrange a special collection\nCall 303-288-2100 or use the Waste Connections phone app or visit their website: https://www.wasteconnections.com/denver/
URL:https://inspirationmetro.org/event/trash-only/2023-08-09/
END:VEVENT
BEGIN:VEVENT
DTSTART;VALUE=DATE:20230726
DTEND;VALUE=DATE:20230727
DTSTAMP:20260425T200750
CREATED:20221227T232758Z
LAST-MODIFIED:20231211T231958Z
UID:5340-1690329600-1690415999@inspirationmetro.org
SUMMARY:Trash Pickup
DESCRIPTION:Trash pickup is every week. This week is trash only (no recycling). \nContact Waste Connections for customer service\, to report a missed pickup\, or to arrange a special collection\nCall 303-288-2100 or use the Waste Connections phone app or visit their website: https://www.wasteconnections.com/denver/
URL:https://inspirationmetro.org/event/trash-only/2023-07-26/
END:VEVENT
BEGIN:VEVENT
DTSTART;VALUE=DATE:20230712
DTEND;VALUE=DATE:20230713
DTSTAMP:20260425T200750
CREATED:20221227T232758Z
LAST-MODIFIED:20231211T231958Z
UID:5339-1689120000-1689206399@inspirationmetro.org
SUMMARY:Trash Pickup
DESCRIPTION:Trash pickup is every week. This week is trash only (no recycling). \nContact Waste Connections for customer service\, to report a missed pickup\, or to arrange a special collection\nCall 303-288-2100 or use the Waste Connections phone app or visit their website: https://www.wasteconnections.com/denver/
URL:https://inspirationmetro.org/event/trash-only/2023-07-12/
END:VEVENT
BEGIN:VEVENT
DTSTART;VALUE=DATE:20230628
DTEND;VALUE=DATE:20230629
DTSTAMP:20260425T200750
CREATED:20221227T232758Z
LAST-MODIFIED:20231211T231958Z
UID:5338-1687910400-1687996799@inspirationmetro.org
SUMMARY:Trash Pickup
DESCRIPTION:Trash pickup is every week. This week is trash only (no recycling). \nContact Waste Connections for customer service\, to report a missed pickup\, or to arrange a special collection\nCall 303-288-2100 or use the Waste Connections phone app or visit their website: https://www.wasteconnections.com/denver/
URL:https://inspirationmetro.org/event/trash-only/2023-06-28/
END:VEVENT
BEGIN:VEVENT
DTSTART;VALUE=DATE:20230614
DTEND;VALUE=DATE:20230615
DTSTAMP:20260425T200750
CREATED:20221227T232758Z
LAST-MODIFIED:20231211T231957Z
UID:5337-1686700800-1686787199@inspirationmetro.org
SUMMARY:Trash Pickup
DESCRIPTION:Trash pickup is every week. This week is trash only (no recycling). \nContact Waste Connections for customer service\, to report a missed pickup\, or to arrange a special collection\nCall 303-288-2100 or use the Waste Connections phone app or visit their website: https://www.wasteconnections.com/denver/
URL:https://inspirationmetro.org/event/trash-only/2023-06-14/
END:VEVENT
BEGIN:VEVENT
DTSTART;VALUE=DATE:20230517
DTEND;VALUE=DATE:20230518
DTSTAMP:20260425T200750
CREATED:20221227T232758Z
LAST-MODIFIED:20231211T231955Z
UID:5335-1684281600-1684367999@inspirationmetro.org
SUMMARY:Trash Pickup
DESCRIPTION:Trash pickup is every week. This week is trash only (no recycling). \nContact Waste Connections for customer service\, to report a missed pickup\, or to arrange a special collection\nCall 303-288-2100 or use the Waste Connections phone app or visit their website: https://www.wasteconnections.com/denver/
URL:https://inspirationmetro.org/event/trash-only/2023-05-17/
END:VEVENT
BEGIN:VEVENT
DTSTART;VALUE=DATE:20230503
DTEND;VALUE=DATE:20230504
DTSTAMP:20260425T200750
CREATED:20221227T232758Z
LAST-MODIFIED:20231211T231954Z
UID:5334-1683072000-1683158399@inspirationmetro.org
SUMMARY:Trash Pickup
DESCRIPTION:Trash pickup is every week. This week is trash only (no recycling). \nContact Waste Connections for customer service\, to report a missed pickup\, or to arrange a special collection\nCall 303-288-2100 or use the Waste Connections phone app or visit their website: https://www.wasteconnections.com/denver/
URL:https://inspirationmetro.org/event/trash-only/2023-05-03/
END:VEVENT
BEGIN:VEVENT
DTSTART;VALUE=DATE:20230111
DTEND;VALUE=DATE:20230112
DTSTAMP:20260425T200750
CREATED:20221227T232758Z
LAST-MODIFIED:20231211T231951Z
UID:5325-1673395200-1673481599@inspirationmetro.org
SUMMARY:Trash Pickup
DESCRIPTION:Trash pickup is every week. This week is trash only (no recycling). \nContact Waste Connections for customer service\, to report a missed pickup\, or to arrange a special collection\nCall 303-288-2100 or use the Waste Connections phone app or visit their website: https://www.wasteconnections.com/denver/
URL:https://inspirationmetro.org/event/trash-only/2023-01-11/
END:VEVENT
END:VCALENDAR