BEGIN:VCALENDAR
VERSION:2.0
PRODID:-//Inspiration Metropolitan District - ECPv6.15.20//NONSGML v1.0//EN
CALSCALE:GREGORIAN
METHOD:PUBLISH
X-ORIGINAL-URL:https://inspirationmetro.org
X-WR-CALDESC:Events for Inspiration Metropolitan District
REFRESH-INTERVAL;VALUE=DURATION:PT1H
X-Robots-Tag:noindex
X-PUBLISHED-TTL:PT1H
BEGIN:VTIMEZONE
TZID:America/Denver
BEGIN:DAYLIGHT
TZOFFSETFROM:-0700
TZOFFSETTO:-0600
TZNAME:MDT
DTSTART:20240310T090000
END:DAYLIGHT
BEGIN:STANDARD
TZOFFSETFROM:-0600
TZOFFSETTO:-0700
TZNAME:MST
DTSTART:20241103T080000
END:STANDARD
BEGIN:DAYLIGHT
TZOFFSETFROM:-0700
TZOFFSETTO:-0600
TZNAME:MDT
DTSTART:20250309T090000
END:DAYLIGHT
BEGIN:STANDARD
TZOFFSETFROM:-0600
TZOFFSETTO:-0700
TZNAME:MST
DTSTART:20251102T080000
END:STANDARD
BEGIN:DAYLIGHT
TZOFFSETFROM:-0700
TZOFFSETTO:-0600
TZNAME:MDT
DTSTART:20260308T090000
END:DAYLIGHT
BEGIN:STANDARD
TZOFFSETFROM:-0600
TZOFFSETTO:-0700
TZNAME:MST
DTSTART:20261101T080000
END:STANDARD
END:VTIMEZONE
BEGIN:VEVENT
DTSTART;TZID=America/Denver:20250904T080000
DTEND;TZID=America/Denver:20250904T170000
DTSTAMP:20260424T065854
CREATED:20241218T200903Z
LAST-MODIFIED:20241218T200912Z
UID:13050-1756972800-1757005200@inspirationmetro.org
SUMMARY:Trash Pickup
DESCRIPTION:Trash pickup is every week. This week is trash only (no recycling). \nContact Waste Connections for customer service\, to report a missed pickup\, or to arrange a special collection\nCall 303-288-2100 or use the Waste Connections phone app or visit their website: https://www.wasteconnections.com/denver/
URL:https://inspirationmetro.org/event/trash-pickup-2/2025-09-04/
END:VEVENT
BEGIN:VEVENT
DTSTART;TZID=America/Denver:20250529T080000
DTEND;TZID=America/Denver:20250529T170000
DTSTAMP:20260424T065854
CREATED:20241218T200903Z
LAST-MODIFIED:20241218T200911Z
UID:13049-1748505600-1748538000@inspirationmetro.org
SUMMARY:Trash Pickup
DESCRIPTION:Trash pickup is every week. This week is trash only (no recycling). \nContact Waste Connections for customer service\, to report a missed pickup\, or to arrange a special collection\nCall 303-288-2100 or use the Waste Connections phone app or visit their website: https://www.wasteconnections.com/denver/
URL:https://inspirationmetro.org/event/trash-pickup-2/2025-05-29/
END:VEVENT
END:VCALENDAR