BEGIN:VCALENDAR
VERSION:2.0
PRODID:-//Inspiration Metropolitan District - ECPv6.15.20//NONSGML v1.0//EN
CALSCALE:GREGORIAN
METHOD:PUBLISH
X-ORIGINAL-URL:https://inspirationmetro.org
X-WR-CALDESC:Events for Inspiration Metropolitan District
REFRESH-INTERVAL;VALUE=DURATION:PT1H
X-Robots-Tag:noindex
X-PUBLISHED-TTL:PT1H
BEGIN:VTIMEZONE
TZID:America/Denver
BEGIN:DAYLIGHT
TZOFFSETFROM:-0700
TZOFFSETTO:-0600
TZNAME:MDT
DTSTART:20250309T090000
END:DAYLIGHT
BEGIN:STANDARD
TZOFFSETFROM:-0600
TZOFFSETTO:-0700
TZNAME:MST
DTSTART:20251102T080000
END:STANDARD
BEGIN:DAYLIGHT
TZOFFSETFROM:-0700
TZOFFSETTO:-0600
TZNAME:MDT
DTSTART:20260308T090000
END:DAYLIGHT
BEGIN:STANDARD
TZOFFSETFROM:-0600
TZOFFSETTO:-0700
TZNAME:MST
DTSTART:20261101T080000
END:STANDARD
BEGIN:DAYLIGHT
TZOFFSETFROM:-0700
TZOFFSETTO:-0600
TZNAME:MDT
DTSTART:20270314T090000
END:DAYLIGHT
BEGIN:STANDARD
TZOFFSETFROM:-0600
TZOFFSETTO:-0700
TZNAME:MST
DTSTART:20271107T080000
END:STANDARD
END:VTIMEZONE
BEGIN:VEVENT
DTSTART;TZID=America/Denver:20260427T180000
DTEND;TZID=America/Denver:20260427T180000
DTSTAMP:20260424T123955
CREATED:20260223T222831Z
LAST-MODIFIED:20260302T185446Z
UID:17836-1777312800-1777312800@inspirationmetro.org
SUMMARY:Vinyasa Yoga with Roni Antonio
DESCRIPTION:Join us for a six-week Intermediate Vinyasa Yoga session at the Inspiration Club Building led by instructor Roni Antonio. \nVinyasa yoga is a dynamic style that synchronizes conscious breath with fluid\, continuous movement between poses (asanas)\, and tends to be more athletic. This is an advanced beginner and up class meaning some yoga experience is needed to the more experienced Yogi. This class incorporates core\, strength\, balancing\, breath and fun! We will end with Savasana to get you centered and grounded.   \nLet us know you’ll be there – RSVP here! \nCome challenge yourself\, recharge\, and enjoy a welcoming community atmosphere each week.
URL:https://inspirationmetro.org/event/vinyasa-yoga-roni-antonio/2026-04-27/
LOCATION:Inspiration Club Building\, 23396 E Glidden Dr\, Aurora\, CO\, 80016\, United States
END:VEVENT
BEGIN:VEVENT
DTSTART;TZID=America/Denver:20260504T180000
DTEND;TZID=America/Denver:20260504T180000
DTSTAMP:20260424T123955
CREATED:20260223T222831Z
LAST-MODIFIED:20260302T185446Z
UID:17837-1777917600-1777917600@inspirationmetro.org
SUMMARY:Vinyasa Yoga with Roni Antonio
DESCRIPTION:Join us for a six-week Intermediate Vinyasa Yoga session at the Inspiration Club Building led by instructor Roni Antonio. \nVinyasa yoga is a dynamic style that synchronizes conscious breath with fluid\, continuous movement between poses (asanas)\, and tends to be more athletic. This is an advanced beginner and up class meaning some yoga experience is needed to the more experienced Yogi. This class incorporates core\, strength\, balancing\, breath and fun! We will end with Savasana to get you centered and grounded.   \nLet us know you’ll be there – RSVP here! \nCome challenge yourself\, recharge\, and enjoy a welcoming community atmosphere each week.
URL:https://inspirationmetro.org/event/vinyasa-yoga-roni-antonio/2026-05-04/
LOCATION:Inspiration Club Building\, 23396 E Glidden Dr\, Aurora\, CO\, 80016\, United States
END:VEVENT
BEGIN:VEVENT
DTSTART;TZID=America/Denver:20260511T180000
DTEND;TZID=America/Denver:20260511T180000
DTSTAMP:20260424T123955
CREATED:20260223T222831Z
LAST-MODIFIED:20260302T185447Z
UID:17838-1778522400-1778522400@inspirationmetro.org
SUMMARY:Vinyasa Yoga with Roni Antonio
DESCRIPTION:Join us for a six-week Intermediate Vinyasa Yoga session at the Inspiration Club Building led by instructor Roni Antonio. \nVinyasa yoga is a dynamic style that synchronizes conscious breath with fluid\, continuous movement between poses (asanas)\, and tends to be more athletic. This is an advanced beginner and up class meaning some yoga experience is needed to the more experienced Yogi. This class incorporates core\, strength\, balancing\, breath and fun! We will end with Savasana to get you centered and grounded.   \nLet us know you’ll be there – RSVP here! \nCome challenge yourself\, recharge\, and enjoy a welcoming community atmosphere each week.
URL:https://inspirationmetro.org/event/vinyasa-yoga-roni-antonio/2026-05-11/
LOCATION:Inspiration Club Building\, 23396 E Glidden Dr\, Aurora\, CO\, 80016\, United States
END:VEVENT
END:VCALENDAR