BEGIN:VCALENDAR
VERSION:2.0
PRODID:-//Inspiration Metropolitan District - ECPv6.15.20//NONSGML v1.0//EN
CALSCALE:GREGORIAN
METHOD:PUBLISH
X-WR-CALNAME:Inspiration Metropolitan District
X-ORIGINAL-URL:https://inspirationmetro.org
X-WR-CALDESC:Events for Inspiration Metropolitan District
REFRESH-INTERVAL;VALUE=DURATION:PT1H
X-Robots-Tag:noindex
X-PUBLISHED-TTL:PT1H
BEGIN:VTIMEZONE
TZID:America/Denver
BEGIN:DAYLIGHT
TZOFFSETFROM:-0700
TZOFFSETTO:-0600
TZNAME:MDT
DTSTART:20230312T090000
END:DAYLIGHT
BEGIN:STANDARD
TZOFFSETFROM:-0600
TZOFFSETTO:-0700
TZNAME:MST
DTSTART:20231105T080000
END:STANDARD
BEGIN:DAYLIGHT
TZOFFSETFROM:-0700
TZOFFSETTO:-0600
TZNAME:MDT
DTSTART:20240310T090000
END:DAYLIGHT
BEGIN:STANDARD
TZOFFSETFROM:-0600
TZOFFSETTO:-0700
TZNAME:MST
DTSTART:20241103T080000
END:STANDARD
BEGIN:DAYLIGHT
TZOFFSETFROM:-0700
TZOFFSETTO:-0600
TZNAME:MDT
DTSTART:20250309T090000
END:DAYLIGHT
BEGIN:STANDARD
TZOFFSETFROM:-0600
TZOFFSETTO:-0700
TZNAME:MST
DTSTART:20251102T080000
END:STANDARD
END:VTIMEZONE
BEGIN:VEVENT
DTSTART;TZID=America/Denver:20240831T081500
DTEND;TZID=America/Denver:20240831T091500
DTSTAMP:20260425T082213
CREATED:20230315T191134Z
LAST-MODIFIED:20230315T191134Z
UID:11473-1725092100-1725095700@inspirationmetro.org
SUMMARY:Yoga at the Pavilion
DESCRIPTION:Inspiration Metropolitan District is pleased to bring you a series of 14 free yoga classes. \n\n\n\n\nYoga for Stress Reduction\n\n\nExpress the art of yoga through body and mind\, while reducing everyday stress. Progressive movement to increase flexibility and strength over time is introduced throughout each session. Various types of yoga may be offered depending on participant fitness levels including Vinyasa\, Hatha\, Nidra and more.\n\nThis class is good for all ages and all levels.\nBring a towel and yoga mat. A water bottle is also recommended.\nFree for Inspiration residents. No registration is required\, just show up at Pathfinder Park pavilion (shade structure)\nClass will be cancelled for inclement weather (rain). Check back here on the calendar to see if class has been cancelled. The instructor will add a make-up date to our yoga season if this occurs.\n\n\n \nClass description: \n“Express the art of yoga through body and mind\, while reducing \neveryday stress. Progressive movement to increase flexibility \nand strength over time is introduced throughout each session. \nVarious types of yoga may be offered depending on participant \nfitness levels including Vinyasa\, Hatha\, Nidra and more.” \n  \nPathfinder Park location: 23493 E Minnow Drive
URL:https://inspirationmetro.org/event/yoga-2023-2023-06-10/2024-08-31/
LOCATION:Pathfinder Park\, 23493 E Minnow Dr\, Aurora\, CO\, 80016\, United States
END:VEVENT
BEGIN:VEVENT
DTSTART;TZID=America/Denver:20240824T081500
DTEND;TZID=America/Denver:20240824T091500
DTSTAMP:20260425T082213
CREATED:20230315T191134Z
LAST-MODIFIED:20230315T191134Z
UID:11472-1724487300-1724490900@inspirationmetro.org
SUMMARY:Yoga at the Pavilion
DESCRIPTION:Inspiration Metropolitan District is pleased to bring you a series of 14 free yoga classes. \n\n\n\n\nYoga for Stress Reduction\n\n\nExpress the art of yoga through body and mind\, while reducing everyday stress. Progressive movement to increase flexibility and strength over time is introduced throughout each session. Various types of yoga may be offered depending on participant fitness levels including Vinyasa\, Hatha\, Nidra and more.\n\nThis class is good for all ages and all levels.\nBring a towel and yoga mat. A water bottle is also recommended.\nFree for Inspiration residents. No registration is required\, just show up at Pathfinder Park pavilion (shade structure)\nClass will be cancelled for inclement weather (rain). Check back here on the calendar to see if class has been cancelled. The instructor will add a make-up date to our yoga season if this occurs.\n\n\n \nClass description: \n“Express the art of yoga through body and mind\, while reducing \neveryday stress. Progressive movement to increase flexibility \nand strength over time is introduced throughout each session. \nVarious types of yoga may be offered depending on participant \nfitness levels including Vinyasa\, Hatha\, Nidra and more.” \n  \nPathfinder Park location: 23493 E Minnow Drive
URL:https://inspirationmetro.org/event/yoga-2023-2023-06-10/2024-08-24/
LOCATION:Pathfinder Park\, 23493 E Minnow Dr\, Aurora\, CO\, 80016\, United States
END:VEVENT
BEGIN:VEVENT
DTSTART;TZID=America/Denver:20240817T081500
DTEND;TZID=America/Denver:20240817T091500
DTSTAMP:20260425T082213
CREATED:20230315T191134Z
LAST-MODIFIED:20230315T191134Z
UID:11471-1723882500-1723886100@inspirationmetro.org
SUMMARY:Yoga at the Pavilion
DESCRIPTION:Inspiration Metropolitan District is pleased to bring you a series of 14 free yoga classes. \n\n\n\n\nYoga for Stress Reduction\n\n\nExpress the art of yoga through body and mind\, while reducing everyday stress. Progressive movement to increase flexibility and strength over time is introduced throughout each session. Various types of yoga may be offered depending on participant fitness levels including Vinyasa\, Hatha\, Nidra and more.\n\nThis class is good for all ages and all levels.\nBring a towel and yoga mat. A water bottle is also recommended.\nFree for Inspiration residents. No registration is required\, just show up at Pathfinder Park pavilion (shade structure)\nClass will be cancelled for inclement weather (rain). Check back here on the calendar to see if class has been cancelled. The instructor will add a make-up date to our yoga season if this occurs.\n\n\n \nClass description: \n“Express the art of yoga through body and mind\, while reducing \neveryday stress. Progressive movement to increase flexibility \nand strength over time is introduced throughout each session. \nVarious types of yoga may be offered depending on participant \nfitness levels including Vinyasa\, Hatha\, Nidra and more.” \n  \nPathfinder Park location: 23493 E Minnow Drive
URL:https://inspirationmetro.org/event/yoga-2023-2023-06-10/2024-08-17/
LOCATION:Pathfinder Park\, 23493 E Minnow Dr\, Aurora\, CO\, 80016\, United States
END:VEVENT
BEGIN:VEVENT
DTSTART;TZID=America/Denver:20240810T081500
DTEND;TZID=America/Denver:20240810T091500
DTSTAMP:20260425T082213
CREATED:20230315T191134Z
LAST-MODIFIED:20230315T191134Z
UID:11470-1723277700-1723281300@inspirationmetro.org
SUMMARY:Yoga at the Pavilion
DESCRIPTION:Inspiration Metropolitan District is pleased to bring you a series of 14 free yoga classes. \n\n\n\n\nYoga for Stress Reduction\n\n\nExpress the art of yoga through body and mind\, while reducing everyday stress. Progressive movement to increase flexibility and strength over time is introduced throughout each session. Various types of yoga may be offered depending on participant fitness levels including Vinyasa\, Hatha\, Nidra and more.\n\nThis class is good for all ages and all levels.\nBring a towel and yoga mat. A water bottle is also recommended.\nFree for Inspiration residents. No registration is required\, just show up at Pathfinder Park pavilion (shade structure)\nClass will be cancelled for inclement weather (rain). Check back here on the calendar to see if class has been cancelled. The instructor will add a make-up date to our yoga season if this occurs.\n\n\n \nClass description: \n“Express the art of yoga through body and mind\, while reducing \neveryday stress. Progressive movement to increase flexibility \nand strength over time is introduced throughout each session. \nVarious types of yoga may be offered depending on participant \nfitness levels including Vinyasa\, Hatha\, Nidra and more.” \n  \nPathfinder Park location: 23493 E Minnow Drive
URL:https://inspirationmetro.org/event/yoga-2023-2023-06-10/2024-08-10/
LOCATION:Pathfinder Park\, 23493 E Minnow Dr\, Aurora\, CO\, 80016\, United States
END:VEVENT
BEGIN:VEVENT
DTSTART;TZID=America/Denver:20240803T081500
DTEND;TZID=America/Denver:20240803T091500
DTSTAMP:20260425T082213
CREATED:20230315T191134Z
LAST-MODIFIED:20230315T191134Z
UID:11469-1722672900-1722676500@inspirationmetro.org
SUMMARY:Yoga at the Pavilion
DESCRIPTION:Inspiration Metropolitan District is pleased to bring you a series of 14 free yoga classes. \n\n\n\n\nYoga for Stress Reduction\n\n\nExpress the art of yoga through body and mind\, while reducing everyday stress. Progressive movement to increase flexibility and strength over time is introduced throughout each session. Various types of yoga may be offered depending on participant fitness levels including Vinyasa\, Hatha\, Nidra and more.\n\nThis class is good for all ages and all levels.\nBring a towel and yoga mat. A water bottle is also recommended.\nFree for Inspiration residents. No registration is required\, just show up at Pathfinder Park pavilion (shade structure)\nClass will be cancelled for inclement weather (rain). Check back here on the calendar to see if class has been cancelled. The instructor will add a make-up date to our yoga season if this occurs.\n\n\n \nClass description: \n“Express the art of yoga through body and mind\, while reducing \neveryday stress. Progressive movement to increase flexibility \nand strength over time is introduced throughout each session. \nVarious types of yoga may be offered depending on participant \nfitness levels including Vinyasa\, Hatha\, Nidra and more.” \n  \nPathfinder Park location: 23493 E Minnow Drive
URL:https://inspirationmetro.org/event/yoga-2023-2023-06-10/2024-08-03/
LOCATION:Pathfinder Park\, 23493 E Minnow Dr\, Aurora\, CO\, 80016\, United States
END:VEVENT
BEGIN:VEVENT
DTSTART;TZID=America/Denver:20240727T081500
DTEND;TZID=America/Denver:20240727T091500
DTSTAMP:20260425T082213
CREATED:20230315T191134Z
LAST-MODIFIED:20230315T191134Z
UID:11468-1722068100-1722071700@inspirationmetro.org
SUMMARY:Yoga at the Pavilion
DESCRIPTION:Inspiration Metropolitan District is pleased to bring you a series of 14 free yoga classes. \n\n\n\n\nYoga for Stress Reduction\n\n\nExpress the art of yoga through body and mind\, while reducing everyday stress. Progressive movement to increase flexibility and strength over time is introduced throughout each session. Various types of yoga may be offered depending on participant fitness levels including Vinyasa\, Hatha\, Nidra and more.\n\nThis class is good for all ages and all levels.\nBring a towel and yoga mat. A water bottle is also recommended.\nFree for Inspiration residents. No registration is required\, just show up at Pathfinder Park pavilion (shade structure)\nClass will be cancelled for inclement weather (rain). Check back here on the calendar to see if class has been cancelled. The instructor will add a make-up date to our yoga season if this occurs.\n\n\n \nClass description: \n“Express the art of yoga through body and mind\, while reducing \neveryday stress. Progressive movement to increase flexibility \nand strength over time is introduced throughout each session. \nVarious types of yoga may be offered depending on participant \nfitness levels including Vinyasa\, Hatha\, Nidra and more.” \n  \nPathfinder Park location: 23493 E Minnow Drive
URL:https://inspirationmetro.org/event/yoga-2023-2023-06-10/2024-07-27/
LOCATION:Pathfinder Park\, 23493 E Minnow Dr\, Aurora\, CO\, 80016\, United States
END:VEVENT
BEGIN:VEVENT
DTSTART;TZID=America/Denver:20240720T081500
DTEND;TZID=America/Denver:20240720T091500
DTSTAMP:20260425T082213
CREATED:20230315T191134Z
LAST-MODIFIED:20230315T191134Z
UID:11467-1721463300-1721466900@inspirationmetro.org
SUMMARY:Yoga at the Pavilion
DESCRIPTION:Inspiration Metropolitan District is pleased to bring you a series of 14 free yoga classes. \n\n\n\n\nYoga for Stress Reduction\n\n\nExpress the art of yoga through body and mind\, while reducing everyday stress. Progressive movement to increase flexibility and strength over time is introduced throughout each session. Various types of yoga may be offered depending on participant fitness levels including Vinyasa\, Hatha\, Nidra and more.\n\nThis class is good for all ages and all levels.\nBring a towel and yoga mat. A water bottle is also recommended.\nFree for Inspiration residents. No registration is required\, just show up at Pathfinder Park pavilion (shade structure)\nClass will be cancelled for inclement weather (rain). Check back here on the calendar to see if class has been cancelled. The instructor will add a make-up date to our yoga season if this occurs.\n\n\n \nClass description: \n“Express the art of yoga through body and mind\, while reducing \neveryday stress. Progressive movement to increase flexibility \nand strength over time is introduced throughout each session. \nVarious types of yoga may be offered depending on participant \nfitness levels including Vinyasa\, Hatha\, Nidra and more.” \n  \nPathfinder Park location: 23493 E Minnow Drive
URL:https://inspirationmetro.org/event/yoga-2023-2023-06-10/2024-07-20/
LOCATION:Pathfinder Park\, 23493 E Minnow Dr\, Aurora\, CO\, 80016\, United States
END:VEVENT
BEGIN:VEVENT
DTSTART;TZID=America/Denver:20240713T081500
DTEND;TZID=America/Denver:20240713T091500
DTSTAMP:20260425T082213
CREATED:20230315T191134Z
LAST-MODIFIED:20230315T191134Z
UID:11466-1720858500-1720862100@inspirationmetro.org
SUMMARY:Yoga at the Pavilion
DESCRIPTION:Inspiration Metropolitan District is pleased to bring you a series of 14 free yoga classes. \n\n\n\n\nYoga for Stress Reduction\n\n\nExpress the art of yoga through body and mind\, while reducing everyday stress. Progressive movement to increase flexibility and strength over time is introduced throughout each session. Various types of yoga may be offered depending on participant fitness levels including Vinyasa\, Hatha\, Nidra and more.\n\nThis class is good for all ages and all levels.\nBring a towel and yoga mat. A water bottle is also recommended.\nFree for Inspiration residents. No registration is required\, just show up at Pathfinder Park pavilion (shade structure)\nClass will be cancelled for inclement weather (rain). Check back here on the calendar to see if class has been cancelled. The instructor will add a make-up date to our yoga season if this occurs.\n\n\n \nClass description: \n“Express the art of yoga through body and mind\, while reducing \neveryday stress. Progressive movement to increase flexibility \nand strength over time is introduced throughout each session. \nVarious types of yoga may be offered depending on participant \nfitness levels including Vinyasa\, Hatha\, Nidra and more.” \n  \nPathfinder Park location: 23493 E Minnow Drive
URL:https://inspirationmetro.org/event/yoga-2023-2023-06-10/2024-07-13/
LOCATION:Pathfinder Park\, 23493 E Minnow Dr\, Aurora\, CO\, 80016\, United States
END:VEVENT
BEGIN:VEVENT
DTSTART;TZID=America/Denver:20240706T081500
DTEND;TZID=America/Denver:20240706T091500
DTSTAMP:20260425T082213
CREATED:20230315T191134Z
LAST-MODIFIED:20230315T191134Z
UID:11465-1720253700-1720257300@inspirationmetro.org
SUMMARY:Yoga at the Pavilion
DESCRIPTION:Inspiration Metropolitan District is pleased to bring you a series of 14 free yoga classes. \n\n\n\n\nYoga for Stress Reduction\n\n\nExpress the art of yoga through body and mind\, while reducing everyday stress. Progressive movement to increase flexibility and strength over time is introduced throughout each session. Various types of yoga may be offered depending on participant fitness levels including Vinyasa\, Hatha\, Nidra and more.\n\nThis class is good for all ages and all levels.\nBring a towel and yoga mat. A water bottle is also recommended.\nFree for Inspiration residents. No registration is required\, just show up at Pathfinder Park pavilion (shade structure)\nClass will be cancelled for inclement weather (rain). Check back here on the calendar to see if class has been cancelled. The instructor will add a make-up date to our yoga season if this occurs.\n\n\n \nClass description: \n“Express the art of yoga through body and mind\, while reducing \neveryday stress. Progressive movement to increase flexibility \nand strength over time is introduced throughout each session. \nVarious types of yoga may be offered depending on participant \nfitness levels including Vinyasa\, Hatha\, Nidra and more.” \n  \nPathfinder Park location: 23493 E Minnow Drive
URL:https://inspirationmetro.org/event/yoga-2023-2023-06-10/2024-07-06/
LOCATION:Pathfinder Park\, 23493 E Minnow Dr\, Aurora\, CO\, 80016\, United States
END:VEVENT
BEGIN:VEVENT
DTSTART;TZID=America/Denver:20240629T081500
DTEND;TZID=America/Denver:20240629T091500
DTSTAMP:20260425T082213
CREATED:20230315T191134Z
LAST-MODIFIED:20230315T191134Z
UID:11464-1719648900-1719652500@inspirationmetro.org
SUMMARY:Yoga at the Pavilion
DESCRIPTION:Inspiration Metropolitan District is pleased to bring you a series of 14 free yoga classes. \n\n\n\n\nYoga for Stress Reduction\n\n\nExpress the art of yoga through body and mind\, while reducing everyday stress. Progressive movement to increase flexibility and strength over time is introduced throughout each session. Various types of yoga may be offered depending on participant fitness levels including Vinyasa\, Hatha\, Nidra and more.\n\nThis class is good for all ages and all levels.\nBring a towel and yoga mat. A water bottle is also recommended.\nFree for Inspiration residents. No registration is required\, just show up at Pathfinder Park pavilion (shade structure)\nClass will be cancelled for inclement weather (rain). Check back here on the calendar to see if class has been cancelled. The instructor will add a make-up date to our yoga season if this occurs.\n\n\n \nClass description: \n“Express the art of yoga through body and mind\, while reducing \neveryday stress. Progressive movement to increase flexibility \nand strength over time is introduced throughout each session. \nVarious types of yoga may be offered depending on participant \nfitness levels including Vinyasa\, Hatha\, Nidra and more.” \n  \nPathfinder Park location: 23493 E Minnow Drive
URL:https://inspirationmetro.org/event/yoga-2023-2023-06-10/2024-06-29/
LOCATION:Pathfinder Park\, 23493 E Minnow Dr\, Aurora\, CO\, 80016\, United States
END:VEVENT
BEGIN:VEVENT
DTSTART;TZID=America/Denver:20240615T081500
DTEND;TZID=America/Denver:20240615T091500
DTSTAMP:20260425T082213
CREATED:20230315T191134Z
LAST-MODIFIED:20230315T191134Z
UID:11462-1718439300-1718442900@inspirationmetro.org
SUMMARY:Yoga at the Pavilion
DESCRIPTION:Inspiration Metropolitan District is pleased to bring you a series of 14 free yoga classes. \n\n\n\n\nYoga for Stress Reduction\n\n\nExpress the art of yoga through body and mind\, while reducing everyday stress. Progressive movement to increase flexibility and strength over time is introduced throughout each session. Various types of yoga may be offered depending on participant fitness levels including Vinyasa\, Hatha\, Nidra and more.\n\nThis class is good for all ages and all levels.\nBring a towel and yoga mat. A water bottle is also recommended.\nFree for Inspiration residents. No registration is required\, just show up at Pathfinder Park pavilion (shade structure)\nClass will be cancelled for inclement weather (rain). Check back here on the calendar to see if class has been cancelled. The instructor will add a make-up date to our yoga season if this occurs.\n\n\n \nClass description: \n“Express the art of yoga through body and mind\, while reducing \neveryday stress. Progressive movement to increase flexibility \nand strength over time is introduced throughout each session. \nVarious types of yoga may be offered depending on participant \nfitness levels including Vinyasa\, Hatha\, Nidra and more.” \n  \nPathfinder Park location: 23493 E Minnow Drive
URL:https://inspirationmetro.org/event/yoga-2023-2023-06-10/2024-06-15/
LOCATION:Pathfinder Park\, 23493 E Minnow Dr\, Aurora\, CO\, 80016\, United States
END:VEVENT
BEGIN:VEVENT
DTSTART;TZID=America/Denver:20240608T081500
DTEND;TZID=America/Denver:20240608T091500
DTSTAMP:20260425T082213
CREATED:20230315T191134Z
LAST-MODIFIED:20230315T191134Z
UID:11461-1717834500-1717838100@inspirationmetro.org
SUMMARY:Yoga at the Pavilion
DESCRIPTION:Inspiration Metropolitan District is pleased to bring you a series of 14 free yoga classes. \n\n\n\n\nYoga for Stress Reduction\n\n\nExpress the art of yoga through body and mind\, while reducing everyday stress. Progressive movement to increase flexibility and strength over time is introduced throughout each session. Various types of yoga may be offered depending on participant fitness levels including Vinyasa\, Hatha\, Nidra and more.\n\nThis class is good for all ages and all levels.\nBring a towel and yoga mat. A water bottle is also recommended.\nFree for Inspiration residents. No registration is required\, just show up at Pathfinder Park pavilion (shade structure)\nClass will be cancelled for inclement weather (rain). Check back here on the calendar to see if class has been cancelled. The instructor will add a make-up date to our yoga season if this occurs.\n\n\n \nClass description: \n“Express the art of yoga through body and mind\, while reducing \neveryday stress. Progressive movement to increase flexibility \nand strength over time is introduced throughout each session. \nVarious types of yoga may be offered depending on participant \nfitness levels including Vinyasa\, Hatha\, Nidra and more.” \n  \nPathfinder Park location: 23493 E Minnow Drive
URL:https://inspirationmetro.org/event/yoga-2023-2023-06-10/2024-06-08/
LOCATION:Pathfinder Park\, 23493 E Minnow Dr\, Aurora\, CO\, 80016\, United States
END:VEVENT
BEGIN:VEVENT
DTSTART;TZID=America/Denver:20240601T081500
DTEND;TZID=America/Denver:20240601T091500
DTSTAMP:20260425T082213
CREATED:20230315T191134Z
LAST-MODIFIED:20240601T153106Z
UID:5815-1717229700-1717233300@inspirationmetro.org
SUMMARY:Yoga at the Pavilion
DESCRIPTION:Inspiration Metropolitan District is pleased to bring you a series of 14 free yoga classes. \n\n\n\n\nYoga for Stress Reduction\n\n\nExpress the art of yoga through body and mind\, while reducing everyday stress. Progressive movement to increase flexibility and strength over time is introduced throughout each session. Various types of yoga may be offered depending on participant fitness levels including Vinyasa\, Hatha\, Nidra and more.\n\nThis class is good for all ages and all levels.\nBring a towel and yoga mat. A water bottle is also recommended.\nFree for Inspiration residents. No registration is required\, just show up at Pathfinder Park pavilion (shade structure)\nClass will be cancelled for inclement weather (rain). Check back here on the calendar to see if class has been cancelled. The instructor will add a make-up date to our yoga season if this occurs.\n\n\n \nClass description: \n“Express the art of yoga through body and mind\, while reducing \neveryday stress. Progressive movement to increase flexibility \nand strength over time is introduced throughout each session. \nVarious types of yoga may be offered depending on participant \nfitness levels including Vinyasa\, Hatha\, Nidra and more.” \n  \nPathfinder Park location: 23493 E Minnow Drive
URL:https://inspirationmetro.org/event/yoga-2023-2023-06-10/2024-06-01/
LOCATION:Pathfinder Park\, 23493 E Minnow Dr\, Aurora\, CO\, 80016\, United States
END:VEVENT
END:VCALENDAR