BEGIN:VCALENDAR
VERSION:2.0
PRODID:-//Inspiration Metropolitan District - ECPv6.15.20//NONSGML v1.0//EN
CALSCALE:GREGORIAN
METHOD:PUBLISH
X-WR-CALNAME:Inspiration Metropolitan District
X-ORIGINAL-URL:https://inspirationmetro.org
X-WR-CALDESC:Events for Inspiration Metropolitan District
REFRESH-INTERVAL;VALUE=DURATION:PT1H
X-Robots-Tag:noindex
X-PUBLISHED-TTL:PT1H
BEGIN:VTIMEZONE
TZID:America/Denver
BEGIN:DAYLIGHT
TZOFFSETFROM:-0700
TZOFFSETTO:-0600
TZNAME:MDT
DTSTART:20200308T090000
END:DAYLIGHT
BEGIN:STANDARD
TZOFFSETFROM:-0600
TZOFFSETTO:-0700
TZNAME:MST
DTSTART:20201101T080000
END:STANDARD
BEGIN:DAYLIGHT
TZOFFSETFROM:-0700
TZOFFSETTO:-0600
TZNAME:MDT
DTSTART:20210314T090000
END:DAYLIGHT
BEGIN:STANDARD
TZOFFSETFROM:-0600
TZOFFSETTO:-0700
TZNAME:MST
DTSTART:20211107T080000
END:STANDARD
BEGIN:DAYLIGHT
TZOFFSETFROM:-0700
TZOFFSETTO:-0600
TZNAME:MDT
DTSTART:20220313T090000
END:DAYLIGHT
BEGIN:STANDARD
TZOFFSETFROM:-0600
TZOFFSETTO:-0700
TZNAME:MST
DTSTART:20221106T080000
END:STANDARD
BEGIN:DAYLIGHT
TZOFFSETFROM:-0700
TZOFFSETTO:-0600
TZNAME:MDT
DTSTART:20230312T090000
END:DAYLIGHT
BEGIN:STANDARD
TZOFFSETFROM:-0600
TZOFFSETTO:-0700
TZNAME:MST
DTSTART:20231105T080000
END:STANDARD
BEGIN:DAYLIGHT
TZOFFSETFROM:-0700
TZOFFSETTO:-0600
TZNAME:MDT
DTSTART:20240310T090000
END:DAYLIGHT
BEGIN:STANDARD
TZOFFSETFROM:-0600
TZOFFSETTO:-0700
TZNAME:MST
DTSTART:20241103T080000
END:STANDARD
BEGIN:DAYLIGHT
TZOFFSETFROM:-0700
TZOFFSETTO:-0600
TZNAME:MDT
DTSTART:20250309T090000
END:DAYLIGHT
BEGIN:STANDARD
TZOFFSETFROM:-0600
TZOFFSETTO:-0700
TZNAME:MST
DTSTART:20251102T080000
END:STANDARD
END:VTIMEZONE
BEGIN:VEVENT
DTSTART;TZID=America/Denver:20240902T090000
DTEND;TZID=America/Denver:20240902T093000
DTSTAMP:20260425T101536
CREATED:20240118T222224Z
LAST-MODIFIED:20240827T213158Z
UID:7709-1725267600-1725269400@inspirationmetro.org
SUMMARY:Hops Harvest
DESCRIPTION:Come anytime to the Hops Garden (23392 E Glidden Drive) to harvest some hops. \nWhen will the hops be ready to harvest? The hops will be ready starting Labor Day. The cones should feel a bit like dry paper.  When broken open they should have a yellow powder. Just come anytime in September to harvest on your own. \nHow many hops to take home? A sandwich bag stuffed pretty full will make one batch.\n\n\nHome brewers: Please email staff@inspirationmetro.org to enter our home brew competition. The home brew\, chili cook-off\, and pumpkin decorating event will take place on October 5th starting at noon.\n\n\nThe hops are “Nugget” which is a general all-around hop good for beer making. Nugget was bred by the USDA and saw its first commercial harvest in 1983. Since then\, it has become a mainstay in many big American style beers including IPAs\, stouts\, and barley wines. It is primarily used as a bittering hop due to its high alpha acids\, but many highly respected breweries use it for aroma and flavor as well. Nugget’s high myrcene oil content gives it a woody and piney character.
URL:https://inspirationmetro.org/event/hops-harvest-3/
LOCATION:Hops Garden\, 23392 E Glidden Dr\, Aurora\, CO\, 80016\, United States
END:VEVENT
BEGIN:VEVENT
DTSTART;TZID=America/Denver:20230902T090000
DTEND;TZID=America/Denver:20230902T093000
DTSTAMP:20260425T101536
CREATED:20230808T192326Z
LAST-MODIFIED:20230830T163229Z
UID:6705-1693645200-1693647000@inspirationmetro.org
SUMMARY:Hops Harvest
DESCRIPTION:Meet at the Hops Garden (23392 E Glidden Drive) to harvest some hops. \nWhen will the hops be ready to harvest? The hops will be ready during the first two weeks of September. The cones should feel a bit like dry paper.  When broken open they should have a yellow powder. \nIf you miss this time slot\, just come anytime afterward to harvest on your own. \nHow many hops to take home? A sandwich bag stuffed pretty full will make one batch.\n\nWe expect to harvest about 1 gallon of hops for the home brewers\, but the plants will likely have produced more than we need.\n\nHome brewers: Please email staff@inspirationmetro.org to enter our home brew competition.\nThe home brew\, chili cook-off\, and pumpkin decorating event will take place on October 7th starting at noon.\n\nThe hops are “Nugget” which is a general all-around hop good for beer making.\nNugget was bred by the USDA and saw its first commercial harvest in 1983. Since then\, it has become a mainstay in many big American style beers including IPAs\, stouts\, and barley wines. It is primarily used as a bittering hop due to its high alpha acids\, but many highly respected breweries use it for aroma and flavor as well. Nugget’s high myrcene oil content gives it a woody and piney character.
URL:https://inspirationmetro.org/event/hops-harvest-2/
LOCATION:Hops Garden\, 23392 E Glidden Dr\, Aurora\, CO\, 80016\, United States
END:VEVENT
BEGIN:VEVENT
DTSTART;TZID=America/Denver:20220909T170000
DTEND;TZID=America/Denver:20220909T190000
DTSTAMP:20260425T101536
CREATED:20220218T215838Z
LAST-MODIFIED:20220905T232915Z
UID:3287-1662742800-1662750000@inspirationmetro.org
SUMMARY:Hops Garden Live Music & Food Truck
DESCRIPTION:HOPS GARDEN MUSIC NIGHT | Hops Garden \nFriday\, Sept. 9th | 5:00-7:00 PM \nPlease note that this event is an hour earlier than our summer events were held – it gets dark sooner. \nLive Music | Refreshments | Neighborly Fun \n  \nBand: Playback \n \nFood trucks: Mountain Melt & Cruz In and Eat
URL:https://inspirationmetro.org/event/hghh2022/
LOCATION:Hops Garden\, 23392 E Glidden Dr\, Aurora\, CO\, 80016\, United States
END:VEVENT
BEGIN:VEVENT
DTSTART;TZID=America/Denver:20220903T100000
DTEND;TZID=America/Denver:20220903T103000
DTSTAMP:20260425T101536
CREATED:20220812T234512Z
LAST-MODIFIED:20220812T235622Z
UID:4529-1662199200-1662201000@inspirationmetro.org
SUMMARY:Hops Harvest
DESCRIPTION:Meet at the Hops Garden (23392 E Glidden Drive) to harvest some hops. \nAre the hops ready for harvest? The hops will be ready during the first two weeks of September. The cones should feel a bit like dry paper.  When broken open they power should be yellow. \nHow many hops to take home? A sandwich bag stuffed pretty full will make one batch.\n\nWe expect to harvest about 1 gallon of hops for the home brewers\, but the plants will likely have produced more than we need.\n\nHome brewers: Please email staff@inspirationmetro.org to enter our home brew competition.\nThe home brew\, chili cook-off\, and pumpkin decorating event will take place on October 8th starting at noon.\n\nThe hops are “Nugget” which is a general all-around hop good for beer making.\nNugget was bred by the USDA and saw its first commercial harvest in 1983. Since then it has become a mainstay in many big American style beers including IPAs\, stouts\, and barley wines. It is primarily used as a bittering hop due to its high alpha acids\, but many highly respected breweries use it for aroma and flavor as well. Nugget’s high myrcene oil content gives it a woody and piney character.
URL:https://inspirationmetro.org/event/hops-harvest-2022/
LOCATION:Hops Garden\, 23392 E Glidden Dr\, Aurora\, CO\, 80016\, United States
END:VEVENT
BEGIN:VEVENT
DTSTART;TZID=America/Denver:20211009T120000
DTEND;TZID=America/Denver:20211009T140000
DTSTAMP:20260425T101536
CREATED:20210827T174204Z
LAST-MODIFIED:20210923T184420Z
UID:2083-1633780800-1633788000@inspirationmetro.org
SUMMARY:Chili Cook-Off and Home Brew Tasting
DESCRIPTION:Make a mean chili? You will want to enter this friendly contest with your neighbors. Email us to get registered. \nDo you home brew? Join the Common Area Committee on Saturday\, September 4th at 10am to harvest hops. You can take some home and make beer with hops grown right at the Hops Garden. \nWe will have pumpkin decorating for all ages! There will be 200 pumpkins\, first-come first-serve. \nEveryone else – come to taste the chili and home brews!
URL:https://inspirationmetro.org/event/chili-cook-off-and-home-brew-tasting/
LOCATION:Hops Garden\, 23392 E Glidden Dr\, Aurora\, CO\, 80016\, United States
END:VEVENT
BEGIN:VEVENT
DTSTART;TZID=America/Denver:20210917T180000
DTEND;TZID=America/Denver:20210917T200000
DTSTAMP:20260425T101536
CREATED:20210831T031653Z
LAST-MODIFIED:20210831T031653Z
UID:2149-1631901600-1631908800@inspirationmetro.org
SUMMARY:Hops Garden Happy Hour
DESCRIPTION:Musical guest: Gordon Avenue \nJoin your neighbors at the Hops Garden between 6-8pm for musical entertainment (acoustic guitar) and refreshments\, free of charge. \nTwo22 Brew will be serving craft beer\, there will also be wine and non-alcoholic beverages to enjoy. \n  \n \n 
URL:https://inspirationmetro.org/event/hops-garden-happy-hour/
LOCATION:Hops Garden\, 23392 E Glidden Dr\, Aurora\, CO\, 80016\, United States
END:VEVENT
BEGIN:VEVENT
DTSTART;TZID=America/Denver:20210904T100000
DTEND;TZID=America/Denver:20210904T113000
DTSTAMP:20260425T101536
CREATED:20210827T174626Z
LAST-MODIFIED:20210827T174626Z
UID:2086-1630749600-1630755000@inspirationmetro.org
SUMMARY:Hops Harvest
DESCRIPTION:The Common Area Committee will be harvesting the hops at the Hops Garden starting at 10am on Saturday\, September 4th. \nJoin your neighbors to get the hops picked. Bring gloves and a bag\, if you are planning to take some home to make beer. \nResidents are encouraged to make their own home brews from the Hops Garden hops. The variety of hops is “Nugget”. \nBring your home brew to share with your neighbors at the Chili Cook-off and Home Brew Tasting event on Saturday\, October 9th from noon-2pm.
URL:https://inspirationmetro.org/event/hops-harvest/
LOCATION:Hops Garden\, 23392 E Glidden Dr\, Aurora\, CO\, 80016\, United States
END:VEVENT
BEGIN:VEVENT
DTSTART;TZID=America/Denver:20210820T180000
DTEND;TZID=America/Denver:20210820T200000
DTSTAMP:20260425T101536
CREATED:20210805T004747Z
LAST-MODIFIED:20210818T232255Z
UID:1845-1629482400-1629489600@inspirationmetro.org
SUMMARY:Happy Hour & Food Truck at Watering Hole Park
DESCRIPTION:Join us for a casual happy hour at the Watering Hole Park. \nLocation is S Sicily Ct just south of E Ignacio Pl \nThe August edition features musical guest Jenny Shawhan \nComplimentary craft beer and wine (limit 2 per person) and non-alcoholic drinks will be provided. \nWe will also have a food truck: Fanwich \n 
URL:https://inspirationmetro.org/event/hops-garden-happy-hour-food-truck/
LOCATION:Hops Garden\, 23392 E Glidden Dr\, Aurora\, CO\, 80016\, United States
END:VEVENT
END:VCALENDAR